BEGIN:VCALENDAR
VERSION:2.0
PRODID:-//Circle T Arena | Hamilton, Texas - ECPv6.15.16//NONSGML v1.0//EN
CALSCALE:GREGORIAN
METHOD:PUBLISH
X-WR-CALNAME:Circle T Arena | Hamilton, Texas
X-ORIGINAL-URL:https://circletarena.net
X-WR-CALDESC:Events for Circle T Arena | Hamilton, Texas
REFRESH-INTERVAL;VALUE=DURATION:PT1H
X-Robots-Tag:noindex
X-PUBLISHED-TTL:PT1H
BEGIN:VTIMEZONE
TZID:America/Chicago
BEGIN:DAYLIGHT
TZOFFSETFROM:-0600
TZOFFSETTO:-0500
TZNAME:CDT
DTSTART:20250309T080000
END:DAYLIGHT
BEGIN:STANDARD
TZOFFSETFROM:-0500
TZOFFSETTO:-0600
TZNAME:CST
DTSTART:20251102T070000
END:STANDARD
BEGIN:DAYLIGHT
TZOFFSETFROM:-0600
TZOFFSETTO:-0500
TZNAME:CDT
DTSTART:20260308T080000
END:DAYLIGHT
BEGIN:STANDARD
TZOFFSETFROM:-0500
TZOFFSETTO:-0600
TZNAME:CST
DTSTART:20261101T070000
END:STANDARD
BEGIN:DAYLIGHT
TZOFFSETFROM:-0600
TZOFFSETTO:-0500
TZNAME:CDT
DTSTART:20270314T080000
END:DAYLIGHT
BEGIN:STANDARD
TZOFFSETFROM:-0500
TZOFFSETTO:-0600
TZNAME:CST
DTSTART:20271107T070000
END:STANDARD
END:VTIMEZONE
BEGIN:VEVENT
DTSTART;TZID=America/Chicago:20260228T210000
DTEND;TZID=America/Chicago:20260228T235900
DTSTAMP:20260424T045200
CREATED:20260121T222201Z
LAST-MODIFIED:20260131T025656Z
UID:2587-1772312400-1772323140@circletarena.net
SUMMARY:Jessie Blake
DESCRIPTION:Live Music at Circle T:  Jessie Blake Rescheduled Feb 28th\n\n\n\n\n\nJoin us at Circle T Arena for an exciting night of live country music with Jessie Blake\, now rescheduled due to inclement weather. The show will take place on Saturday\, February 28\, beginning at 9:00 PM\, following the conclusion of the arena event. \nJessie Blake is making waves on the national scene with his hit single “Birds of a Feather\,” currently ranked #8 on the Cashbox National Charts. A familiar favorite at Circle T\, he’s known for delivering high-energy performances that keep the crowd on their feet. \nEnjoy a free show\, a full bar\, and plenty of cold drinks as you settle in for a great night of music and atmosphere. \nNo cover — just great music and a memorable night at Circle T Arena. \nFollow Jessie Blake on Facebook
URL:https://circletarena.net/event/jessie-blake-3/
LOCATION:Crossfire Cantina
CATEGORIES:Live Music
ATTACH;FMTTYPE=image/png:https://circletarena.net/wp-content/uploads/2025/01/Jessie-Blake-Music-Feature.png
ORGANIZER;CN="Crossfire Cantina":MAILTO:foh@circletarena.net
END:VEVENT
END:VCALENDAR