BEGIN:VCALENDAR
VERSION:2.0
PRODID:-//Circle T Arena | Hamilton, Texas - ECPv6.15.16//NONSGML v1.0//EN
CALSCALE:GREGORIAN
METHOD:PUBLISH
X-WR-CALNAME:Circle T Arena | Hamilton, Texas
X-ORIGINAL-URL:https://circletarena.net
X-WR-CALDESC:Events for Circle T Arena | Hamilton, Texas
REFRESH-INTERVAL;VALUE=DURATION:PT1H
X-Robots-Tag:noindex
X-PUBLISHED-TTL:PT1H
BEGIN:VTIMEZONE
TZID:America/Chicago
BEGIN:DAYLIGHT
TZOFFSETFROM:-0600
TZOFFSETTO:-0500
TZNAME:CDT
DTSTART:20240310T080000
END:DAYLIGHT
BEGIN:STANDARD
TZOFFSETFROM:-0500
TZOFFSETTO:-0600
TZNAME:CST
DTSTART:20241103T070000
END:STANDARD
BEGIN:DAYLIGHT
TZOFFSETFROM:-0600
TZOFFSETTO:-0500
TZNAME:CDT
DTSTART:20250309T080000
END:DAYLIGHT
BEGIN:STANDARD
TZOFFSETFROM:-0500
TZOFFSETTO:-0600
TZNAME:CST
DTSTART:20251102T070000
END:STANDARD
BEGIN:DAYLIGHT
TZOFFSETFROM:-0600
TZOFFSETTO:-0500
TZNAME:CDT
DTSTART:20260308T080000
END:DAYLIGHT
BEGIN:STANDARD
TZOFFSETFROM:-0500
TZOFFSETTO:-0600
TZNAME:CST
DTSTART:20261101T070000
END:STANDARD
END:VTIMEZONE
BEGIN:VEVENT
DTSTART;TZID=America/Chicago:20250125T150000
DTEND;TZID=America/Chicago:20250125T235900
DTSTAMP:20260421T134623
CREATED:20250116T203611Z
LAST-MODIFIED:20250116T204707Z
UID:1659-1737817200-1737849540@circletarena.net
SUMMARY:Jessie Blake
DESCRIPTION:photo credit by Karie Sconyers Photography\n\n\n\n\n\nAbout the Artist:\n\n\n\n\n\nJessie Blake is a Country Music Singer/Songwriter recently releasing the single\, “Hooks on My Boots\,” from his album “The Dead Man’s Hand.” Previously he has released singles\, “Let’s Get Dirty\,” and “County Road To Nowhere.” \nJessie Blake will play as soon as the WSPBR Bull Riding is over.
URL:https://circletarena.net/event/jessie-blake/
LOCATION:Crossfire Cantina
CATEGORIES:Live Music
ATTACH;FMTTYPE=image/png:https://circletarena.net/wp-content/uploads/2025/01/Jessie-Blake-Music-Feature.png
ORGANIZER;CN="Crossfire Cantina":MAILTO:foh@circletarena.net
END:VEVENT
END:VCALENDAR