BEGIN:VCALENDAR
VERSION:2.0
PRODID:-//Circle T Arena | Hamilton, Texas - ECPv6.15.16//NONSGML v1.0//EN
CALSCALE:GREGORIAN
METHOD:PUBLISH
X-WR-CALNAME:Circle T Arena | Hamilton, Texas
X-ORIGINAL-URL:https://circletarena.net
X-WR-CALDESC:Events for Circle T Arena | Hamilton, Texas
REFRESH-INTERVAL;VALUE=DURATION:PT1H
X-Robots-Tag:noindex
X-PUBLISHED-TTL:PT1H
BEGIN:VTIMEZONE
TZID:America/Chicago
BEGIN:DAYLIGHT
TZOFFSETFROM:-0600
TZOFFSETTO:-0500
TZNAME:CDT
DTSTART:20240310T080000
END:DAYLIGHT
BEGIN:STANDARD
TZOFFSETFROM:-0500
TZOFFSETTO:-0600
TZNAME:CST
DTSTART:20241103T070000
END:STANDARD
BEGIN:DAYLIGHT
TZOFFSETFROM:-0600
TZOFFSETTO:-0500
TZNAME:CDT
DTSTART:20250309T080000
END:DAYLIGHT
BEGIN:STANDARD
TZOFFSETFROM:-0500
TZOFFSETTO:-0600
TZNAME:CST
DTSTART:20251102T070000
END:STANDARD
BEGIN:DAYLIGHT
TZOFFSETFROM:-0600
TZOFFSETTO:-0500
TZNAME:CDT
DTSTART:20260308T080000
END:DAYLIGHT
BEGIN:STANDARD
TZOFFSETFROM:-0500
TZOFFSETTO:-0600
TZNAME:CST
DTSTART:20261101T070000
END:STANDARD
END:VTIMEZONE
BEGIN:VEVENT
DTSTART;TZID=America/Chicago:20250627T200000
DTEND;TZID=America/Chicago:20250627T230000
DTSTAMP:20260421T134633
CREATED:20250519T154136Z
LAST-MODIFIED:20250519T154701Z
UID:2061-1751054400-1751065200@circletarena.net
SUMMARY:Travis Smith Band
DESCRIPTION:About Travis Smith\nTexicana / Country / Americana Artist | Singer • Soldier • Songwriter \nHailing from Ellis County\, Texas\, Travis Smith is the real deal—a genuine blend of heartfelt songwriting\, Southern charm\, and infectious live energy. After serving 28 years as a Sergeant Major in the U.S. Army\, Travis traded his uniform for a guitar and quickly established himself as a compelling songwriter and dynamic entertainer on the Texas music scene. \nKnown for his fun\, high-energy shows\, Travis Smith and his band bring a signature Texicana/Country/Americana sound that’s equal parts honky-tonk and heart. His hit singles like “Not A Neighbor In Sight\,” “Burning Daylight\,” “Too Close to Home\,” and “How Can I Miss Her?” have earned extensive airplay—with each charting release staying on the radio for over 20 weeks\, and “How Can I Miss Her?” reaching #2 on the TIRC chart. \nWith over 225\,000 streams across platforms like Spotify\, Apple Music\, Pandora\, YouTube\, iHeartRadio\, Amazon\, and Napster\, Travis continues to connect with audiences far and wide. His songs are crafted with a “take-the-backroad” storytelling style—simple\, subtle\, and deeply resonant. \nWhether it’s a solo acoustic set\, a duo or trio arrangement\, or a full band show\, Travis Smith delivers a performance that’s as personal as it is powerful. \nFollow Travis Online:📘 Facebook📸 Instagram \n 
URL:https://circletarena.net/event/travis-smith-band/
LOCATION:Crossfire Cantina
CATEGORIES:Live Music
ATTACH;FMTTYPE=image/png:https://circletarena.net/wp-content/uploads/2025/05/Travis-Smith.png
ORGANIZER;CN="Crossfire Cantina":MAILTO:foh@circletarena.net
END:VEVENT
END:VCALENDAR