BEGIN:VCALENDAR
VERSION:2.0
PRODID:-//Circle T Arena | Hamilton, Texas - ECPv6.15.16//NONSGML v1.0//EN
CALSCALE:GREGORIAN
METHOD:PUBLISH
X-WR-CALNAME:Circle T Arena | Hamilton, Texas
X-ORIGINAL-URL:https://circletarena.net
X-WR-CALDESC:Events for Circle T Arena | Hamilton, Texas
REFRESH-INTERVAL;VALUE=DURATION:PT1H
X-Robots-Tag:noindex
X-PUBLISHED-TTL:PT1H
BEGIN:VTIMEZONE
TZID:America/Chicago
BEGIN:DAYLIGHT
TZOFFSETFROM:-0600
TZOFFSETTO:-0500
TZNAME:CDT
DTSTART:20240310T080000
END:DAYLIGHT
BEGIN:STANDARD
TZOFFSETFROM:-0500
TZOFFSETTO:-0600
TZNAME:CST
DTSTART:20241103T070000
END:STANDARD
BEGIN:DAYLIGHT
TZOFFSETFROM:-0600
TZOFFSETTO:-0500
TZNAME:CDT
DTSTART:20250309T080000
END:DAYLIGHT
BEGIN:STANDARD
TZOFFSETFROM:-0500
TZOFFSETTO:-0600
TZNAME:CST
DTSTART:20251102T070000
END:STANDARD
BEGIN:DAYLIGHT
TZOFFSETFROM:-0600
TZOFFSETTO:-0500
TZNAME:CDT
DTSTART:20260308T080000
END:DAYLIGHT
BEGIN:STANDARD
TZOFFSETFROM:-0500
TZOFFSETTO:-0600
TZNAME:CST
DTSTART:20261101T070000
END:STANDARD
END:VTIMEZONE
BEGIN:VEVENT
DTSTART;VALUE=DATE:20250911
DTEND;VALUE=DATE:20250915
DTSTAMP:20260421T072551
CREATED:20250811T133346Z
LAST-MODIFIED:20250815T231949Z
UID:10000215-1757548800-1757894399@circletarena.net
SUMMARY:Prime Team Roping Finals
DESCRIPTION:STALL AND RV OFFICE HOURS\nWEDNESDAY:3 PM – 10 PMTHURSDAY:8AM – 10 PMFRIDAY:8 AM – 10 PMSATURDAY: 8 AM – 11 PMSUNDAY: CLOSED \n			\n				BOOK STALLS AND RVS\n			\n				\n				\n				\n				\n				\nAbout the Event:\nPrime Team Roping Finals 2025Follow Prime Team Roping on Facebook. 
URL:https://circletarena.net/event/prime-team-roping-finals-2025/
LOCATION:Circle T Arena – B\, TX
CATEGORIES:Arena Events
ATTACH;FMTTYPE=image/png:https://circletarena.net/wp-content/uploads/2024/07/CTA-Featured-Image-2.png
END:VEVENT
BEGIN:VEVENT
DTSTART;VALUE=DATE:20250913
DTEND;VALUE=DATE:20250915
DTSTAMP:20260421T072551
CREATED:20250815T233212Z
LAST-MODIFIED:20250818T140701Z
UID:10000225-1757721600-1757894399@circletarena.net
SUMMARY:Region X Rodeo
DESCRIPTION:STALL AND RV OFFICE HOURS\nFRIDAY: 3 PM – 10 PMSATURDAY: 8 AM – 10 PMSUNDAY: CLOSED \n			\n				BOOK STALLS AND RVS\n			\n				\n				\n				\n				\n				\n2025-2026 TJHRA & THSRA Region X Rodeo \nFor more information see the Region X Website \nAll Rodeos are held in Hamilton Tx at Circle T arena. Jr High Starts at 8:30 am and High School begins shortly after Jr high is over.  \nAll Rough Stock is done on Saturdays  \, We have Church on Sunday between the Jr High and High School Rodeo. \n 
URL:https://circletarena.net/event/region-x-rodeo-sept-2025/
LOCATION:Circle T Arena – A\, TX
CATEGORIES:Arena Events
ATTACH;FMTTYPE=image/jpeg:https://circletarena.net/wp-content/uploads/2024/07/lg-Region-X-logo-1.jpg
ORGANIZER;CN="REGX":MAILTO:texasregion10@gmail.com
END:VEVENT
BEGIN:VEVENT
DTSTART;TZID=America/Chicago:20250913T200000
DTEND;TZID=America/Chicago:20250913T235900
DTSTAMP:20260421T072551
CREATED:20250507T150009Z
LAST-MODIFIED:20250528T155020Z
UID:10000176-1757793600-1757807940@circletarena.net
SUMMARY:Pianos & Pints-B Flat Dueling Pianos
DESCRIPTION:B Flat Dueling Pianos — Live at Crossfire Steakhouse Cantina\nDate: Saturday\, September 13\, 2025Location: Crossfire Event Center— Circle T ArenaDoors Open: 8 PM | Show Starts: 9 PMSteakhouse Opens: 5 PM — Arrive early for a delicious dinnerAges: 21 & Older Only \n\nAn Unforgettable Night Awaits\nPrepare for an evening of music\, comedy\, and crowd interaction as B Flat Dueling Pianos takes over the stage at Crossfire Steakhouse. Renowned as Texas’ premier traveling dueling piano show\, this high-energy performance promises non-stop entertainment\, sing-alongs\, and plenty of laughs. \n\nSeating and Ticket Options\nRound Tables (Seats 8) — $100 per tableLimited to 12 tables \nHigh Tops (Seats 4) — $60 per tableLimited to 8 tables \nGeneral Admission \n\n\nPresale — $15 \n\n\nAt the Door — $20 \n\n\n\nWith limited seating and a track record of sold-out shows\, purchasing your tickets early is highly recommended. Don’t miss your chance to experience the best night of music and fun in Hamilton\, Texas. \n			\n				Get Tickets
URL:https://circletarena.net/event/b-flat-dueling-pianos-2/
LOCATION:Crossfire Cantina
CATEGORIES:Live Music
ATTACH;FMTTYPE=image/png:https://circletarena.net/wp-content/uploads/2025/05/CTA-Featured-Image-5.png
ORGANIZER;CN="Crossfire Cantina":MAILTO:foh@circletarena.net
END:VEVENT
END:VCALENDAR