BEGIN:VCALENDAR
VERSION:2.0
PRODID:-//Circle T Arena | Hamilton, Texas - ECPv6.15.16//NONSGML v1.0//EN
CALSCALE:GREGORIAN
METHOD:PUBLISH
X-ORIGINAL-URL:https://circletarena.net
X-WR-CALDESC:Events for Circle T Arena | Hamilton, Texas
REFRESH-INTERVAL;VALUE=DURATION:PT1H
X-Robots-Tag:noindex
X-PUBLISHED-TTL:PT1H
BEGIN:VTIMEZONE
TZID:America/Chicago
BEGIN:DAYLIGHT
TZOFFSETFROM:-0600
TZOFFSETTO:-0500
TZNAME:CDT
DTSTART:20240310T080000
END:DAYLIGHT
BEGIN:STANDARD
TZOFFSETFROM:-0500
TZOFFSETTO:-0600
TZNAME:CST
DTSTART:20241103T070000
END:STANDARD
BEGIN:DAYLIGHT
TZOFFSETFROM:-0600
TZOFFSETTO:-0500
TZNAME:CDT
DTSTART:20250309T080000
END:DAYLIGHT
BEGIN:STANDARD
TZOFFSETFROM:-0500
TZOFFSETTO:-0600
TZNAME:CST
DTSTART:20251102T070000
END:STANDARD
BEGIN:DAYLIGHT
TZOFFSETFROM:-0600
TZOFFSETTO:-0500
TZNAME:CDT
DTSTART:20260308T080000
END:DAYLIGHT
BEGIN:STANDARD
TZOFFSETFROM:-0500
TZOFFSETTO:-0600
TZNAME:CST
DTSTART:20261101T070000
END:STANDARD
END:VTIMEZONE
BEGIN:VEVENT
DTSTART;TZID=America/Chicago:20250801T190000
DTEND;TZID=America/Chicago:20250801T210000
DTSTAMP:20260424T112321
CREATED:20250709T155616Z
LAST-MODIFIED:20250721T143742Z
UID:10000204-1754074800-1754082000@circletarena.net
SUMMARY:Family Feud hosted by Hamilton Civic Theatre
DESCRIPTION:About the Event:\nHamilton Civic Theatre presents Family FeudTickets $20 for Audience.  Email Hamiltoncivictheatre414@gmail.com for tickets. See the flyer for more details on how to enter your family to compete. 
URL:https://circletarena.net/event/family-feud/
LOCATION:The Event Center
CATEGORIES:Live Music
ATTACH;FMTTYPE=image/png:https://circletarena.net/wp-content/uploads/2025/07/Family-Fued-Hamilton-Civic-Theather.png
ORGANIZER;CN="Hamilton Civic Theatre":MAILTO:hamiltoncivictheatre414@gmail.com
END:VEVENT
BEGIN:VEVENT
DTSTART;TZID=America/Chicago:20250802T200000
DTEND;TZID=America/Chicago:20250802T230000
DTSTAMP:20260424T112321
CREATED:20250519T164627Z
LAST-MODIFIED:20250519T172659Z
UID:10000194-1754164800-1754175600@circletarena.net
SUMMARY:Banter
DESCRIPTION: \nAbout Banter\nBanter is a dynamic musical ensemble hailing from Fort Worth\, Texas\, celebrated for their passionate performances and authentic\, heartfelt sound. Blending emotional depth with energetic stage presence\, Banter creates an experience that resonates deeply with audiences—whether through their soul-stirring original songs or powerful interpretations of beloved tracks like Miranda Lambert’s “Vice.” \nWith a strong and growing presence on platforms like Facebook\, Instagram\, Twitter\, TikTok\, and YouTube\, Banter connects with fans far beyond the stage. Their content offers a behind-the-scenes look into the band’s creative process\, showcases live performances\, and builds anticipation for their much-awaited original releases. \nNotably\, Banter has taken the stage at high-profile venues such as Troy’s at Texas Live\, located at Globe Life Field\, home of the Texas Rangers. These milestone performances underscore the band’s rising influence in the Texas music scene and beyond. \nAs Banter continues writing and producing original music\, they remain rooted in their mission: to move people through melody\, meaning\, and a shared love of great music. \nFollow Banter’s journey online and onstage—this is a band you won’t want to miss.
URL:https://circletarena.net/event/banter/
LOCATION:Crossfire Cantina
CATEGORIES:Live Music
ATTACH;FMTTYPE=image/png:https://circletarena.net/wp-content/uploads/2025/05/Banter-Featured-Image.png
ORGANIZER;CN="Crossfire Cantina":MAILTO:foh@circletarena.net
END:VEVENT
BEGIN:VEVENT
DTSTART;TZID=America/Chicago:20250816T200000
DTEND;TZID=America/Chicago:20250816T230000
DTSTAMP:20260424T112321
CREATED:20250811T131749Z
LAST-MODIFIED:20250811T131759Z
UID:10000214-1755374400-1755385200@circletarena.net
SUMMARY:2:Fourteen Band
DESCRIPTION:Band Bio:\nWe’re a teeny\, tiny band called 2:FOURTEEN (like the time of day…take a drink!) Based in Dallas/Ft Worth\, TXWe play Rock\, Pop\, Alternative\, Country\, and Re-imagined Classics from the 70s through today! \nBrian – Keys\, Guitar\, Bass\, VocalShelly- VocalsMotty – Drums \nFollow us on social media \nFacebook \nInstagram
URL:https://circletarena.net/event/2-fourteen-band/
LOCATION:Crossfire Cantina
CATEGORIES:Live Music
ATTACH;FMTTYPE=image/jpeg:https://circletarena.net/wp-content/uploads/2025/08/2-Fourteen-Logo-1.jpg
ORGANIZER;CN="Crossfire Cantina":MAILTO:foh@circletarena.net
END:VEVENT
BEGIN:VEVENT
DTSTART;TZID=America/Chicago:20250823T200000
DTEND;TZID=America/Chicago:20250823T230000
DTSTAMP:20260424T112321
CREATED:20250407T181413Z
LAST-MODIFIED:20250407T182403Z
UID:10000156-1755979200-1755990000@circletarena.net
SUMMARY:Karaoke with Freddy
DESCRIPTION:About the Artist:\n🎤 Come sing your heart out\, enjoy great company\, and dance the night away. Don’t miss out on the chance to be part of an amazing night filled with music and entertainment. Grab your friends\, and let’s make some memories together! 🕺💃 \nWhether you’re a seasoned singer or just looking to have a good time\, our karaoke event is the perfect place to let loose and show off your vocal chops. With over 20 years of experience\, we know how to keep the energy high and the vibes right! 🎶
URL:https://circletarena.net/event/karaoke-with-freddy-2/
LOCATION:Crossfire Cantina
CATEGORIES:Live Music
ATTACH;FMTTYPE=image/webp:https://circletarena.net/wp-content/uploads/2024/10/Karaoke-Log-1.jpg.webp
ORGANIZER;CN="Crossfire Cantina":MAILTO:foh@circletarena.net
END:VEVENT
BEGIN:VEVENT
DTSTART;TZID=America/Chicago:20250829T200000
DTEND;TZID=America/Chicago:20250829T230000
DTSTAMP:20260424T112321
CREATED:20250507T151651Z
LAST-MODIFIED:20250507T152902Z
UID:10000177-1756497600-1756508400@circletarena.net
SUMMARY:Karaoke with Freddy
DESCRIPTION:About the Artist:\n🎤 Come sing your heart out\, enjoy great company\, and dance the night away. Don’t miss out on the chance to be part of an amazing night filled with music and entertainment. Grab your friends\, and let’s make some memories together! 🕺💃 \nWhether you’re a seasoned singer or just looking to have a good time\, our karaoke event is the perfect place to let loose and show off your vocal chops. With over 20 years of experience\, we know how to keep the energy high and the vibes right! 🎶
URL:https://circletarena.net/event/karaoke-with-freddy-3/
LOCATION:Crossfire Cantina
CATEGORIES:Live Music
ATTACH;FMTTYPE=image/webp:https://circletarena.net/wp-content/uploads/2024/10/Karaoke-Log-1.jpg.webp
ORGANIZER;CN="Crossfire Cantina":MAILTO:foh@circletarena.net
END:VEVENT
BEGIN:VEVENT
DTSTART;TZID=America/Chicago:20250830T200000
DTEND;TZID=America/Chicago:20250830T230000
DTSTAMP:20260424T112321
CREATED:20250519T162342Z
LAST-MODIFIED:20250519T162933Z
UID:10000193-1756584000-1756594800@circletarena.net
SUMMARY:Coyote Stylite
DESCRIPTION:About Coyote Stylite\nCoyote Stylite is a Texas southern rock band with a soul-infused twist\, known for delivering electrifying performances and unforgettable vibes. Blending gritty rock energy with heartfelt southern soul\, we take our audience on a true musical roller coaster — from the adrenaline-pumping anthem “Long Way Home” to the deep emotional resonance of “Rio Grande.” \nWe’re not just a band — we’re a good time in motion. Our shows are packed with diverse musical styles and high-energy stage presence\, keeping crowds on their feet and singing along all night. Whether you’re into classic rock\, ’90s country\, modern-day country\, or even a taste of grunge\, we’ve got something for you. With a dynamic mix of original songs and crowd-favorite covers\, every set is a fresh and soulful ride. \nWe get down — and we hope you’ll get down with us. \nFacebook
URL:https://circletarena.net/event/coyote-stylite/
LOCATION:Crossfire Cantina
CATEGORIES:Live Music
ATTACH;FMTTYPE=image/jpeg:https://circletarena.net/wp-content/uploads/2025/05/Coyote-Stylite-Feature-Image.jpg
ORGANIZER;CN="Crossfire Cantina":MAILTO:foh@circletarena.net
END:VEVENT
BEGIN:VEVENT
DTSTART;TZID=America/Chicago:20250831T210000
DTEND;TZID=America/Chicago:20250831T235900
DTSTAMP:20260424T112321
CREATED:20250519T152108Z
LAST-MODIFIED:20250519T152815Z
UID:10000190-1756674000-1756684740@circletarena.net
SUMMARY:Coston Cross
DESCRIPTION:About the Artist:\nBIOGRAPHY \nOver 20 years ago\, no one would have known the remarkable journey that awaited Coston Cross. Starting from an elementary talent show stage\, he has been propelled to grace countless stages and share his talent with audiences far and wide. From those humble beginnings\, Coston has honed his craft\, capturing the hearts of listeners with his authentic style. Along the way\, he has had the privilege of opening for some of the biggest names in country music\, such as Billy ”Crash” Craddock\, Diamond Rio\, John Michael Montgomery\, as well as many others. \nCross’ latest album\, “Haunted\,” dives deep into the essence of storytelling\, weaving tales of love\, loss\, and reminiscing of days gone by. With the title track\, he invites listeners on a journey through the shadows of the human experience\, exploring themes of longing\, regret\, and the ghosts of the past. Whereas “Weekends With You” is an anthem for the average working person and “Love In Your Eyes” is a heartfelt love song. Through his distinct blend of traditional country sound and contemporary sensibility\, Cross crafts a musical landscape that is both timeless and deeply resonant. This album stands as a testament to Cross’ artistry and his ability to capture the essence of life’s most profound moments through song. \nCoston prides himself on his independence as an artist\, bringing an engaging live show to his audience with his band. Each performance is a testament to his commitment to authenticity and his passion for connecting with his fans through the power of music. With his dedication and infectious energy on stage\, Coston Cross creates memorable experiences that leave a lasting impression on all who attend his shows. \nFacebookWebsite
URL:https://circletarena.net/event/coston-cross/
LOCATION:Crossfire Cantina
CATEGORIES:Live Music
ATTACH;FMTTYPE=image/jpeg:https://circletarena.net/wp-content/uploads/2025/05/Coston-Cross-Featured-Image-2.jpg
ORGANIZER;CN="Crossfire Cantina":MAILTO:foh@circletarena.net
END:VEVENT
END:VCALENDAR