BEGIN:VCALENDAR
VERSION:2.0
PRODID:-//Circle T Arena | Hamilton, Texas - ECPv6.15.16//NONSGML v1.0//EN
CALSCALE:GREGORIAN
METHOD:PUBLISH
X-ORIGINAL-URL:https://circletarena.net
X-WR-CALDESC:Events for Circle T Arena | Hamilton, Texas
REFRESH-INTERVAL;VALUE=DURATION:PT1H
X-Robots-Tag:noindex
X-PUBLISHED-TTL:PT1H
BEGIN:VTIMEZONE
TZID:America/Chicago
BEGIN:DAYLIGHT
TZOFFSETFROM:-0600
TZOFFSETTO:-0500
TZNAME:CDT
DTSTART:20240310T080000
END:DAYLIGHT
BEGIN:STANDARD
TZOFFSETFROM:-0500
TZOFFSETTO:-0600
TZNAME:CST
DTSTART:20241103T070000
END:STANDARD
BEGIN:DAYLIGHT
TZOFFSETFROM:-0600
TZOFFSETTO:-0500
TZNAME:CDT
DTSTART:20250309T080000
END:DAYLIGHT
BEGIN:STANDARD
TZOFFSETFROM:-0500
TZOFFSETTO:-0600
TZNAME:CST
DTSTART:20251102T070000
END:STANDARD
BEGIN:DAYLIGHT
TZOFFSETFROM:-0600
TZOFFSETTO:-0500
TZNAME:CDT
DTSTART:20260308T080000
END:DAYLIGHT
BEGIN:STANDARD
TZOFFSETFROM:-0500
TZOFFSETTO:-0600
TZNAME:CST
DTSTART:20261101T070000
END:STANDARD
END:VTIMEZONE
BEGIN:VEVENT
DTSTART;TZID=America/Chicago:20251002T200000
DTEND;TZID=America/Chicago:20251002T230000
DTSTAMP:20260424T063157
CREATED:20251002T161950Z
LAST-MODIFIED:20251002T162000Z
UID:10000258-1759435200-1759446000@circletarena.net
SUMMARY:Live Music with Miles Williams
DESCRIPTION:About the Event:\nMiles Williams \nMiles Williams carries the torch of a legendary country music legacy as the grandson of Hank Williams. With a voice steeped in southern soul and stories that echo the grit of outlaw country\, Miles brings a fresh edge to a timeless sound. From smoky barrooms to festival stages\, his high-energy live shows blend traditional country roots with modern rock influences. \nExplore tour dates\, listen to new music\, watch live videos\, and stay connected with the next chapter of a family tradition. Whether you’re a lifelong country fan or new to the genre\, Miles Williams delivers a sound that’s raw\, real\, and unforgettable. \nFacebook
URL:https://circletarena.net/event/miles-williams/
LOCATION:Crossfire Cantina
CATEGORIES:Live Music
ORGANIZER;CN="Crossfire Cantina":MAILTO:foh@circletarena.net
END:VEVENT
BEGIN:VEVENT
DTSTART;TZID=America/Chicago:20251003T200000
DTEND;TZID=America/Chicago:20251003T235900
DTSTAMP:20260424T063157
CREATED:20250929T153025Z
LAST-MODIFIED:20250929T153035Z
UID:10000248-1759521600-1759535940@circletarena.net
SUMMARY:Brady Hulsey
DESCRIPTION: \nAbout the Band:\nBrady Hulsey BandBrady Hulsey is a solo artist and founding member of the Brady Hulsey band from Glen Rose\, TX. Brady and the band play a variety of traditional country & Texas country\, mixing in some originals. BHB has released 2 albums. \nFollow the band on Facebook
URL:https://circletarena.net/event/brady-hulsey-3/
LOCATION:Crossfire Cantina
CATEGORIES:Live Music
ATTACH;FMTTYPE=image/png:https://circletarena.net/wp-content/uploads/2025/01/Brad-Hulsey-Feature.png
ORGANIZER;CN="Crossfire Cantina":MAILTO:foh@circletarena.net
END:VEVENT
BEGIN:VEVENT
DTSTART;TZID=America/Chicago:20251004T200000
DTEND;TZID=America/Chicago:20251004T230000
DTSTAMP:20260424T063157
CREATED:20250818T171330Z
LAST-MODIFIED:20250818T174632Z
UID:10000240-1759608000-1759618800@circletarena.net
SUMMARY:Tyler Tillman
DESCRIPTION:About the Event:\nLive Music with Tyler TillmanFMI: Tyler Tillman Website \n\nBIO\n\n\nWelcome to the home of Tyler Tillman\, where traditional country roots meet modern storytelling. Since 2016\, Tyler has been bringing authentic\, relatable country music to fans of all ages. With a commitment to strong values and heartfelt lyrics\, Tyler’s Red Dirt/Texas Country Music is a fresh take on a timeless genre. Dive into his world\, explore his music\, and join him on tour.
URL:https://circletarena.net/event/tyler-tillman/
LOCATION:Crossfire Cantina
CATEGORIES:Live Music
ATTACH;FMTTYPE=image/jpeg:https://circletarena.net/wp-content/uploads/2025/08/Feature-Tyler-Tillman-Circle-T-Arena-Hamilton-Texas.jpg
ORGANIZER;CN="Crossfire Cantina":MAILTO:foh@circletarena.net
END:VEVENT
BEGIN:VEVENT
DTSTART;TZID=America/Chicago:20251009T183000
DTEND;TZID=America/Chicago:20251009T203000
DTSTAMP:20260424T063157
CREATED:20250929T160428Z
LAST-MODIFIED:20250929T160438Z
UID:10000251-1760034600-1760041800@circletarena.net
SUMMARY:Open Mic Night with Wade Johnson
DESCRIPTION:About the Event:\nWade Paul Johnson Open MicJoin Wade Johnson at Circle T Arena for Open Mic! Open to all ages and levels.Follow Wade Johnson at his website for other upcoming events. 
URL:https://circletarena.net/event/open-mic-wade-johnson/
LOCATION:Crossfire Cantina
CATEGORIES:Live Music
ATTACH;FMTTYPE=image/png:https://circletarena.net/wp-content/uploads/2025/09/Wade-Johnson-Feature.png
ORGANIZER;CN="Crossfire Cantina":MAILTO:foh@circletarena.net
END:VEVENT
BEGIN:VEVENT
DTSTART;TZID=America/Chicago:20251010T200000
DTEND;TZID=America/Chicago:20251010T230000
DTSTAMP:20260424T063157
CREATED:20250507T153158Z
LAST-MODIFIED:20250507T153509Z
UID:10000178-1760126400-1760137200@circletarena.net
SUMMARY:Karaoke with Freddy
DESCRIPTION:About the Artist:\n🎤 Come sing your heart out\, enjoy great company\, and dance the night away. Don’t miss out on the chance to be part of an amazing night filled with music and entertainment. Grab your friends\, and let’s make some memories together! 🕺💃 \nWhether you’re a seasoned singer or just looking to have a good time\, our karaoke event is the perfect place to let loose and show off your vocal chops. With over 20 years of experience\, we know how to keep the energy high and the vibes right! 🎶
URL:https://circletarena.net/event/karaoke-with-freddy-4/
LOCATION:Crossfire Cantina
CATEGORIES:Live Music
ATTACH;FMTTYPE=image/webp:https://circletarena.net/wp-content/uploads/2024/10/Karaoke-Log-1.jpg.webp
ORGANIZER;CN="Crossfire Cantina":MAILTO:foh@circletarena.net
END:VEVENT
BEGIN:VEVENT
DTSTART;TZID=America/Chicago:20251016T183000
DTEND;TZID=America/Chicago:20251016T203000
DTSTAMP:20260424T063157
CREATED:20250929T160824Z
LAST-MODIFIED:20250929T160824Z
UID:10000252-1760639400-1760646600@circletarena.net
SUMMARY:Open Mic Night with Wade Johnson
DESCRIPTION:About the Event:\nWade Paul Johnson Open Mic\nJoin Wade Johnson at Circle T Arena for Open Mic! Open to all ages and levels.\nFollow Wade Johnson at his website for other upcoming events. 
URL:https://circletarena.net/event/open-mic-night-with-wade-johnson-2/
LOCATION:Crossfire Cantina
CATEGORIES:Live Music
ATTACH;FMTTYPE=image/png:https://circletarena.net/wp-content/uploads/2025/09/Wade-Johnson-Feature.png
ORGANIZER;CN="Crossfire Cantina":MAILTO:foh@circletarena.net
END:VEVENT
BEGIN:VEVENT
DTSTART;TZID=America/Chicago:20251017T200000
DTEND;TZID=America/Chicago:20251017T230000
DTSTAMP:20260424T063157
CREATED:20250507T160337Z
LAST-MODIFIED:20250507T160337Z
UID:10000182-1760731200-1760742000@circletarena.net
SUMMARY:Karaoke with Freddy
DESCRIPTION:About the Artist:\n🎤 Come sing your heart out\, enjoy great company\, and dance the night away. Don’t miss out on the chance to be part of an amazing night filled with music and entertainment. Grab your friends\, and let’s make some memories together! 🕺💃 \nWhether you’re a seasoned singer or just looking to have a good time\, our karaoke event is the perfect place to let loose and show off your vocal chops. With over 20 years of experience\, we know how to keep the energy high and the vibes right! 🎶
URL:https://circletarena.net/event/karaoke-with-freddy-8/
LOCATION:Crossfire Cantina
CATEGORIES:Live Music
ATTACH;FMTTYPE=image/webp:https://circletarena.net/wp-content/uploads/2024/10/Karaoke-Log-1.jpg.webp
ORGANIZER;CN="Crossfire Cantina":MAILTO:foh@circletarena.net
END:VEVENT
BEGIN:VEVENT
DTSTART;TZID=America/Chicago:20251023T183000
DTEND;TZID=America/Chicago:20251023T203000
DTSTAMP:20260424T063157
CREATED:20250929T161012Z
LAST-MODIFIED:20250929T161012Z
UID:10000253-1761244200-1761251400@circletarena.net
SUMMARY:Open Mic Night with Wade Johnson
DESCRIPTION:About the Event:\nWade Paul Johnson Open Mic\nJoin Wade Johnson at Circle T Arena for Open Mic! Open to all ages and levels.\nFollow Wade Johnson at his website for other upcoming events. 
URL:https://circletarena.net/event/open-mic-night-with-wade-johnson-3/
LOCATION:Crossfire Cantina
CATEGORIES:Live Music
ATTACH;FMTTYPE=image/png:https://circletarena.net/wp-content/uploads/2025/09/Wade-Johnson-Feature.png
ORGANIZER;CN="Crossfire Cantina":MAILTO:foh@circletarena.net
END:VEVENT
BEGIN:VEVENT
DTSTART;TZID=America/Chicago:20251025T200000
DTEND;TZID=America/Chicago:20251025T230000
DTSTAMP:20260424T063157
CREATED:20250407T182901Z
LAST-MODIFIED:20250409T163818Z
UID:10000157-1761422400-1761433200@circletarena.net
SUMMARY:Chuck Wimer Band
DESCRIPTION:About the Artist:\nChuck Wimer Band \nAmerican country music artist Chuck Wimer is a gifted performer. His music can be categorized as a blend of conventional country music with Americana and alt country influences. Chuck has earned recognition in the country music industry for his deep voice and moving lyrics.\n \nChuck’s talent for fusing several genres and making them his own is what makes his music distinctive. His music is presented with an emotional intensity that frequently deals with themes of love\, sorrow\, and redemption. Chuck’s music is always genuine and intensely personal\, whether he is singing about hope or sadness.\n \nChuck Wimer draws inspiration from legendary country artists such as Charley Pride\, Chris LeDoux\, and Garth Brooks. Their timeless sounds have influenced Chuck’s music\, and he blends their classic country vibes with a fresh twist in his own compositions. His journey from a United States Army veteran to a passionate musician reflects his dedication and love for creating music. \n \nChuck Wimer has established a name for himself in the world of country music earning a number of award nominations. His music is proof of the ability of music to unite people and move their hearts. Chuck is a musician you won’t want to miss if you enjoy country\, Americana\, or alt country.\n \nChuck has been married to his wife and high school sweetheart\, Jaimie\, since 1997. They have three musically talented children: Sofia\, Grace\, and Matthew. Despite their musical talents\, Chuck’s children prefer to stay out of the spotlight.\nYou can listen to Chuck’s songs at youtube.com/chuckwimer or on any digital streaming service. You can also find Chuck Wimer Music on Facebook and Instagram.
URL:https://circletarena.net/event/chuck-wimer-band/
LOCATION:Crossfire Cantina
CATEGORIES:Arena Events,Live Music
ATTACH;FMTTYPE=image/png:https://circletarena.net/wp-content/uploads/2025/01/Chuck-Wimer-Band-Feature.png
ORGANIZER;CN="Crossfire Cantina":MAILTO:foh@circletarena.net
END:VEVENT
BEGIN:VEVENT
DTSTART;TZID=America/Chicago:20251030T183000
DTEND;TZID=America/Chicago:20251030T203000
DTSTAMP:20260424T063157
CREATED:20250929T161202Z
LAST-MODIFIED:20250929T161202Z
UID:10000254-1761849000-1761856200@circletarena.net
SUMMARY:Open Mic Night with Wade Johnson
DESCRIPTION:About the Event:\nWade Paul Johnson Open Mic\nJoin Wade Johnson at Circle T Arena for Open Mic! Open to all ages and levels.\nFollow Wade Johnson at his website for other upcoming events. 
URL:https://circletarena.net/event/open-mic-night-with-wade-johnson-4/
LOCATION:Crossfire Cantina
CATEGORIES:Live Music
ATTACH;FMTTYPE=image/png:https://circletarena.net/wp-content/uploads/2025/09/Wade-Johnson-Feature.png
ORGANIZER;CN="Crossfire Cantina":MAILTO:foh@circletarena.net
END:VEVENT
BEGIN:VEVENT
DTSTART;TZID=America/Chicago:20251031T200000
DTEND;TZID=America/Chicago:20251031T230000
DTSTAMP:20260424T063157
CREATED:20250507T153848Z
LAST-MODIFIED:20250507T153848Z
UID:10000179-1761940800-1761951600@circletarena.net
SUMMARY:Karaoke with Freddy
DESCRIPTION:About the Artist:\n🎤 Come sing your heart out\, enjoy great company\, and dance the night away. Don’t miss out on the chance to be part of an amazing night filled with music and entertainment. Grab your friends\, and let’s make some memories together! 🕺💃 \nWhether you’re a seasoned singer or just looking to have a good time\, our karaoke event is the perfect place to let loose and show off your vocal chops. With over 20 years of experience\, we know how to keep the energy high and the vibes right! 🎶
URL:https://circletarena.net/event/karaoke-with-freddy-5/
LOCATION:Crossfire Cantina
CATEGORIES:Live Music
ATTACH;FMTTYPE=image/webp:https://circletarena.net/wp-content/uploads/2024/10/Karaoke-Log-1.jpg.webp
ORGANIZER;CN="Crossfire Cantina":MAILTO:foh@circletarena.net
END:VEVENT
END:VCALENDAR