BEGIN:VCALENDAR
VERSION:2.0
PRODID:-//Circle T Arena | Hamilton, Texas - ECPv6.15.16//NONSGML v1.0//EN
CALSCALE:GREGORIAN
METHOD:PUBLISH
X-WR-CALNAME:Circle T Arena | Hamilton, Texas
X-ORIGINAL-URL:https://circletarena.net
X-WR-CALDESC:Events for Circle T Arena | Hamilton, Texas
REFRESH-INTERVAL;VALUE=DURATION:PT1H
X-Robots-Tag:noindex
X-PUBLISHED-TTL:PT1H
BEGIN:VTIMEZONE
TZID:America/Chicago
BEGIN:DAYLIGHT
TZOFFSETFROM:-0600
TZOFFSETTO:-0500
TZNAME:CDT
DTSTART:20240310T080000
END:DAYLIGHT
BEGIN:STANDARD
TZOFFSETFROM:-0500
TZOFFSETTO:-0600
TZNAME:CST
DTSTART:20241103T070000
END:STANDARD
BEGIN:DAYLIGHT
TZOFFSETFROM:-0600
TZOFFSETTO:-0500
TZNAME:CDT
DTSTART:20250309T080000
END:DAYLIGHT
BEGIN:STANDARD
TZOFFSETFROM:-0500
TZOFFSETTO:-0600
TZNAME:CST
DTSTART:20251102T070000
END:STANDARD
BEGIN:DAYLIGHT
TZOFFSETFROM:-0600
TZOFFSETTO:-0500
TZNAME:CDT
DTSTART:20260308T080000
END:DAYLIGHT
BEGIN:STANDARD
TZOFFSETFROM:-0500
TZOFFSETTO:-0600
TZNAME:CST
DTSTART:20261101T070000
END:STANDARD
END:VTIMEZONE
BEGIN:VEVENT
DTSTART;TZID=America/Chicago:20251105T200000
DTEND;TZID=America/Chicago:20251105T235900
DTSTAMP:20260420T083318
CREATED:20250409T173420Z
LAST-MODIFIED:20250929T162040Z
UID:10000164-1762372800-1762387140@circletarena.net
SUMMARY:Ed Leonard
DESCRIPTION:🎸 Ed Leonard at Crossfire Cantina\nLet the Honky Tonkin’ Good Times Roll \nGet ready for an unforgettable night of authentic Classic Country and more as Ed Leonard brings his one-man band to Crossfire Cantina! \nEd Leonard is more than just a seasoned performer—he’s a Texas-based Air Force veteran\, a devoted husband\, and a lifelong musician with a heart for heartfelt storytelling and toe-tapping tunes. Hailing from Gatesville\, Texas\, Ed has been playing guitar since 1986 and captivating audiences as the front man for several bands throughout the 1990s. After taking a break to raise his family and lead worship in the United Pentecostal Church\, Ed returned to the stage with a renewed passion and a unique solo act: Ed Leonard and Friends. \nSince 2015\, Ed has been living his dream as a full-time entertainer\, performing 125-160 shows a year across Texas and beyond. His performances are anything but ordinary—he tailors every set to the crowd\, reading the room and playing exactly what the audience wants to hear. From Classic Country favorites to a little Classic Rock and more\, Ed’s shows are lively\, heartfelt\, and always full of surprises. \nCome join the “Friends” for a night of great music\, great stories\, and good old-fashioned fun. Whether you’re a die-hard country fan or just love live music with soul\, Ed Leonard is sure to leave you smiling and dancing. \n🗓 Date: November 5\, 2025\n📍 Venue: Crossfire Cantina\n🎶 Music Style: Classic Country\, Classic Rock\, Crowd Requests\n🎤 Motto: Let the Honky Tonkin’ Good Times Roll!
URL:https://circletarena.net/event/ed-leonard/
LOCATION:Crossfire Cantina
CATEGORIES:Live Music
ATTACH;FMTTYPE=image/png:https://circletarena.net/wp-content/uploads/2025/04/Ed-Leonard-Feature.png
ORGANIZER;CN="Crossfire Cantina":MAILTO:foh@circletarena.net
END:VEVENT
BEGIN:VEVENT
DTSTART;TZID=America/Chicago:20251106T183000
DTEND;TZID=America/Chicago:20251106T203000
DTSTAMP:20260420T083318
CREATED:20250929T161406Z
LAST-MODIFIED:20250929T161406Z
UID:10000255-1762453800-1762461000@circletarena.net
SUMMARY:Open Mic Night with Wade Johnson
DESCRIPTION:About the Event:\nWade Paul Johnson Open Mic\nJoin Wade Johnson at Circle T Arena for Open Mic! Open to all ages and levels.\nFollow Wade Johnson at his website for other upcoming events. 
URL:https://circletarena.net/event/open-mic-night-with-wade-johnson-5/
LOCATION:Crossfire Cantina
CATEGORIES:Live Music
ATTACH;FMTTYPE=image/png:https://circletarena.net/wp-content/uploads/2025/09/Wade-Johnson-Feature.png
ORGANIZER;CN="Crossfire Cantina":MAILTO:foh@circletarena.net
END:VEVENT
BEGIN:VEVENT
DTSTART;TZID=America/Chicago:20251107T200000
DTEND;TZID=America/Chicago:20251107T230000
DTSTAMP:20260420T083318
CREATED:20250507T154510Z
LAST-MODIFIED:20250507T154510Z
UID:10000180-1762545600-1762556400@circletarena.net
SUMMARY:Karaoke with Freddy
DESCRIPTION:About the Artist:\n🎤 Come sing your heart out\, enjoy great company\, and dance the night away. Don’t miss out on the chance to be part of an amazing night filled with music and entertainment. Grab your friends\, and let’s make some memories together! 🕺💃 \nWhether you’re a seasoned singer or just looking to have a good time\, our karaoke event is the perfect place to let loose and show off your vocal chops. With over 20 years of experience\, we know how to keep the energy high and the vibes right! 🎶
URL:https://circletarena.net/event/karaoke-with-freddy-6/
LOCATION:Crossfire Cantina
CATEGORIES:Live Music
ATTACH;FMTTYPE=image/webp:https://circletarena.net/wp-content/uploads/2024/10/Karaoke-Log-1.jpg.webp
ORGANIZER;CN="Crossfire Cantina":MAILTO:foh@circletarena.net
END:VEVENT
BEGIN:VEVENT
DTSTART;TZID=America/Chicago:20251108T200000
DTEND;TZID=America/Chicago:20251108T230000
DTSTAMP:20260420T083318
CREATED:20251027T142515Z
LAST-MODIFIED:20251027T142515Z
UID:10000261-1762632000-1762642800@circletarena.net
SUMMARY:Shotgun Josephine
DESCRIPTION:About Shotgun Josephine\nCountry Grit • Southern Rock Soul • Unforgettable Energy \nShotgun Josephine isn’t your typical country band. Blending the heart of classic country with the raw energy and swagger of Southern rock\, this powerhouse group delivers every performance with fire\, soul\, and a little bit of attitude. Whether it’s a hard-hitting original or a reinvented cover\, every song is a showstopper—crafted to connect\, built to move\, and played loud. \nWith tight musicianship\, gritty vocals\, and a stage presence that commands attention\, Shotgun Josephine brings a fresh edge to the country scene while tipping their hat to the legends of Southern rock. Their dynamic live shows keep crowds dancing\, singing\, and coming back for more. \nIf you’re looking for a band that delivers country with bite\, backed by the spirit of rock ‘n’ roll—Shotgun Josephine is ready to bring the heat. \nFacebook
URL:https://circletarena.net/event/shotgun-josephine-2/
LOCATION:Crossfire Cantina
CATEGORIES:Live Music
ATTACH;FMTTYPE=image/png:https://circletarena.net/wp-content/uploads/2025/05/Shotgun-Josephine-Logo.png
ORGANIZER;CN="Crossfire Cantina":MAILTO:foh@circletarena.net
END:VEVENT
BEGIN:VEVENT
DTSTART;TZID=America/Chicago:20251114T200000
DTEND;TZID=America/Chicago:20251114T230000
DTSTAMP:20260420T083318
CREATED:20250818T172632Z
LAST-MODIFIED:20250818T172643Z
UID:10000242-1763150400-1763161200@circletarena.net
SUMMARY:Erick Chase Moya Duo
DESCRIPTION:About the Event:\nLive Music with Erick Chase Moya Duo \nErick Chase Moya was born and raised in North Texas. He started his live music career in Hunt County\, circa 2019. Moya’s influences include George Strait\, Radney Foster\, Kurt Kobain and more. His approach to songwriting stems from his love and understanding of country music as well as wanting to take the genre forward with new ideas.
URL:https://circletarena.net/event/erick-chase-moya-duo/
LOCATION:Crossfire Cantina
CATEGORIES:Live Music
ATTACH;FMTTYPE=image/jpeg:https://circletarena.net/wp-content/uploads/2025/08/Erick-Chase-Moya-Duo-Feature-Circle-T-Arena-Hamilton-Texas.jpg
ORGANIZER;CN="Crossfire Cantina":MAILTO:foh@circletarena.net
END:VEVENT
BEGIN:VEVENT
DTSTART;TZID=America/Chicago:20251115T210000
DTEND;TZID=America/Chicago:20251115T235900
DTSTAMP:20260420T083318
CREATED:20250818T173158Z
LAST-MODIFIED:20250818T173209Z
UID:10000243-1763240400-1763251140@circletarena.net
SUMMARY:Landon Farrar Band
DESCRIPTION:About the Event:\nLandon Farrar BandFMI: Landon Farrar Music \n\nABOUT LANDON FARRAR\n\n\nI strive to bring a unique sound and personal touch to the country/rock/blues music genre. As an up-and-coming musician\, I am 21 years old and have a passion for creating music and performing live. My music is heavily influenced by my upbringing in Texas\, and I’m looking to gig at venues and bars across the state. \nI am dedicated to creating a unique sound that blends all of my musical influences together to create something truly special. Come check out my social medias and music to see what I’m all about.
URL:https://circletarena.net/event/landon-farrar-band/
LOCATION:Crossfire Cantina
CATEGORIES:Live Music
ATTACH;FMTTYPE=image/jpeg:https://circletarena.net/wp-content/uploads/2025/08/Landon-Farrar-Feature-Circle-T-Arena-Hamilton-Texas.jpg
ORGANIZER;CN="Crossfire Cantina":MAILTO:foh@circletarena.net
END:VEVENT
BEGIN:VEVENT
DTSTART;TZID=America/Chicago:20251120T183000
DTEND;TZID=America/Chicago:20251120T203000
DTSTAMP:20260420T083318
CREATED:20250929T161540Z
LAST-MODIFIED:20250929T161540Z
UID:10000256-1763663400-1763670600@circletarena.net
SUMMARY:Open Mic Night with Wade Johnson
DESCRIPTION:About the Event:\nWade Paul Johnson Open Mic\nJoin Wade Johnson at Circle T Arena for Open Mic! Open to all ages and levels.\nFollow Wade Johnson at his website for other upcoming events. 
URL:https://circletarena.net/event/open-mic-night-with-wade-johnson-6/
LOCATION:Crossfire Cantina
CATEGORIES:Live Music
ATTACH;FMTTYPE=image/png:https://circletarena.net/wp-content/uploads/2025/09/Wade-Johnson-Feature.png
ORGANIZER;CN="Crossfire Cantina":MAILTO:foh@circletarena.net
END:VEVENT
BEGIN:VEVENT
DTSTART;TZID=America/Chicago:20251123T170000
DTEND;TZID=America/Chicago:20251123T190000
DTSTAMP:20260420T083318
CREATED:20251106T192104Z
LAST-MODIFIED:20251106T192116Z
UID:10000264-1763917200-1763924400@circletarena.net
SUMMARY:Brennan Scott Green Acoustic
DESCRIPTION:About the Event:\nAcoustic set with Brennan Scott GreenJust us for an evening of music with Brennan Scott Green. Follow him on Facebook for info!
URL:https://circletarena.net/event/brennan-scott-green-acoustic/
LOCATION:Crossfire Cantina
CATEGORIES:Live Music
ATTACH;FMTTYPE=image/png:https://circletarena.net/wp-content/uploads/2025/11/Brenna-Greene-Live-Music-Feature.png
ORGANIZER;CN="Crossfire Cantina":MAILTO:foh@circletarena.net
END:VEVENT
END:VCALENDAR