BEGIN:VCALENDAR
VERSION:2.0
PRODID:-//Circle T Arena | Hamilton, Texas - ECPv6.15.16//NONSGML v1.0//EN
CALSCALE:GREGORIAN
METHOD:PUBLISH
X-WR-CALNAME:Circle T Arena | Hamilton, Texas
X-ORIGINAL-URL:https://circletarena.net
X-WR-CALDESC:Events for Circle T Arena | Hamilton, Texas
REFRESH-INTERVAL;VALUE=DURATION:PT1H
X-Robots-Tag:noindex
X-PUBLISHED-TTL:PT1H
BEGIN:VTIMEZONE
TZID:America/Chicago
BEGIN:DAYLIGHT
TZOFFSETFROM:-0600
TZOFFSETTO:-0500
TZNAME:CDT
DTSTART:20240310T080000
END:DAYLIGHT
BEGIN:STANDARD
TZOFFSETFROM:-0500
TZOFFSETTO:-0600
TZNAME:CST
DTSTART:20241103T070000
END:STANDARD
BEGIN:DAYLIGHT
TZOFFSETFROM:-0600
TZOFFSETTO:-0500
TZNAME:CDT
DTSTART:20250309T080000
END:DAYLIGHT
BEGIN:STANDARD
TZOFFSETFROM:-0500
TZOFFSETTO:-0600
TZNAME:CST
DTSTART:20251102T070000
END:STANDARD
BEGIN:DAYLIGHT
TZOFFSETFROM:-0600
TZOFFSETTO:-0500
TZNAME:CDT
DTSTART:20260308T080000
END:DAYLIGHT
BEGIN:STANDARD
TZOFFSETFROM:-0500
TZOFFSETTO:-0600
TZNAME:CST
DTSTART:20261101T070000
END:STANDARD
BEGIN:DAYLIGHT
TZOFFSETFROM:-0600
TZOFFSETTO:-0500
TZNAME:CDT
DTSTART:20270314T080000
END:DAYLIGHT
BEGIN:STANDARD
TZOFFSETFROM:-0500
TZOFFSETTO:-0600
TZNAME:CST
DTSTART:20271107T070000
END:STANDARD
END:VTIMEZONE
BEGIN:VEVENT
DTSTART;TZID=America/Chicago:20251227T200000
DTEND;TZID=America/Chicago:20251227T230000
DTSTAMP:20260422T081349
CREATED:20250407T183618Z
LAST-MODIFIED:20250409T164918Z
UID:10000158-1766865600-1766876400@circletarena.net
SUMMARY:Chuck Wimer Band
DESCRIPTION:About the Artist:\nChuck Wimer Band \nAmerican country music artist Chuck Wimer is a gifted performer. His music can be categorized as a blend of conventional country music with Americana and alt country influences. Chuck has earned recognition in the country music industry for his deep voice and moving lyrics.\n \nChuck’s talent for fusing several genres and making them his own is what makes his music distinctive. His music is presented with an emotional intensity that frequently deals with themes of love\, sorrow\, and redemption. Chuck’s music is always genuine and intensely personal\, whether he is singing about hope or sadness.\n \nChuck Wimer draws inspiration from legendary country artists such as Charley Pride\, Chris LeDoux\, and Garth Brooks. Their timeless sounds have influenced Chuck’s music\, and he blends their classic country vibes with a fresh twist in his own compositions. His journey from a United States Army veteran to a passionate musician reflects his dedication and love for creating music. \n \nChuck Wimer has established a name for himself in the world of country music earning a number of award nominations. His music is proof of the ability of music to unite people and move their hearts. Chuck is a musician you won’t want to miss if you enjoy country\, Americana\, or alt country.\n \nChuck has been married to his wife and high school sweetheart\, Jaimie\, since 1997. They have three musically talented children: Sofia\, Grace\, and Matthew. Despite their musical talents\, Chuck’s children prefer to stay out of the spotlight.\nYou can listen to Chuck’s songs at youtube.com/chuckwimer or on any digital streaming service. You can also find Chuck Wimer Music on Facebook and Instagram.
URL:https://circletarena.net/event/chuck-wimer-band-2/
LOCATION:Crossfire Cantina
CATEGORIES:Live Music
ATTACH;FMTTYPE=image/png:https://circletarena.net/wp-content/uploads/2025/01/Chuck-Wimer-Band-Feature.png
ORGANIZER;CN="Crossfire Cantina":MAILTO:foh@circletarena.net
END:VEVENT
BEGIN:VEVENT
DTSTART;TZID=America/Chicago:20251228T200000
DTEND;TZID=America/Chicago:20251228T230000
DTSTAMP:20260422T081349
CREATED:20250507T154609Z
LAST-MODIFIED:20250507T154609Z
UID:10000181-1766952000-1766962800@circletarena.net
SUMMARY:Karaoke with Freddy
DESCRIPTION:About the Artist:\n🎤 Come sing your heart out\, enjoy great company\, and dance the night away. Don’t miss out on the chance to be part of an amazing night filled with music and entertainment. Grab your friends\, and let’s make some memories together! 🕺💃 \nWhether you’re a seasoned singer or just looking to have a good time\, our karaoke event is the perfect place to let loose and show off your vocal chops. With over 20 years of experience\, we know how to keep the energy high and the vibes right! 🎶
URL:https://circletarena.net/event/karaoke-with-freddy-7/
LOCATION:Crossfire Cantina
CATEGORIES:Live Music
ATTACH;FMTTYPE=image/webp:https://circletarena.net/wp-content/uploads/2024/10/Karaoke-Log-1.jpg.webp
ORGANIZER;CN="Crossfire Cantina":MAILTO:foh@circletarena.net
END:VEVENT
BEGIN:VEVENT
DTSTART;TZID=America/Chicago:20251231T170000
DTEND;TZID=America/Chicago:20251231T220000
DTSTAMP:20260422T081349
CREATED:20251208T153504Z
LAST-MODIFIED:20251208T153517Z
UID:10000271-1767200400-1767218400@circletarena.net
SUMMARY:New Year's Eve Menu for Crossfire Steakhouse
DESCRIPTION:New Year’s Menu forDining in the Steakhouse\nReservations encouraged for New Years Eve dining.No reservations after 9:30PM \n\nAfter dinner grab tickets for Keys & Countdown New Year’s Eve at Crossfire Events Center\, located at Circle T Arena. 
URL:https://circletarena.net/event/new-years-eve-menu-for-crossfire-steakhouse/
LOCATION:Crossfire Steakhouse\, 4007 West Hwy 36\, Hamilton\, TX\, 76531\, United States
CATEGORIES:Arena Events,Live Music
ATTACH;FMTTYPE=image/png:https://circletarena.net/wp-content/uploads/2025/12/New-Years-into-2026-resize.png
ORGANIZER;CN="Crossfire Cantina":MAILTO:foh@circletarena.net
END:VEVENT
BEGIN:VEVENT
DTSTART;TZID=America/Chicago:20251231T200000
DTEND;TZID=America/Chicago:20260101T003000
DTSTAMP:20260422T081350
CREATED:20251016T232211Z
LAST-MODIFIED:20251208T154318Z
UID:10000259-1767211200-1767227400@circletarena.net
SUMMARY:Keys & Countdown- New Years Eve
DESCRIPTION:BUY TICKETS\n			\n				\n				\n				\n				\n				\nTicket Information: \nAvailable to purchase at the Door\, Limited Availability!!General Admission: $25 each presale and $35 at the door-Standing Room Only  \nReserved High Top Table: $100Package IncludesReserved Table includes 4 high top seats and wristbands for event on December 31\, 2025.-All guests must be 21+-Doors open at 8PM\, Show starts at 9:00PM. -Full Service Cash Bar on site. Cash or credit card payments accepted.  \nReserved Round Table: $200Package Includes-Reserved Table includes 8 seats and wristbands for event on December 31\, 2025. -All guests must be 21+-Doors open at 8PM\, Show starts at 9:00PM. -Full Service Cash Bar on site. Cash or credit card payments accepted.  \nEVENT TERMS & CONDITIONS: Event is 21 and up only\, no exceptions. Valid photo ID required for admission.Email purchase confirmation required for admission.No refunds or cancellations. No outside alcohol allowed.  \nCrossfire Steakhouse NYE Hours\nOpen 5 PM – 10 PMReservations strongly recommended.Special Menu \n  \n			\n				NYE + Hotel Package\n			\n				\n				\n				\n				\n				 Ring In 2026 at Circle T Arena!\nNYE Stay & Play Package + Keys & Countdown Dueling Pianos\nStay one night on December 31\, 2025 and get the ultimate New Year’s Eve experience: \n 2× General Admission Tickets to the Keys & Countdown Dueling Pianos Show $100 Meal Voucher to Crossfire Steakhouse (food only) 1-Night Stay at The Inn at Circle T (King Suite or Double) \nEarly Bird Special: $249 + taxOnly 10 packages available — Book Now! \n\n NYE Stay & Play Package Includes\n\n2× General Admission tickets to the Dueling Pianos show\n$100 Meal Voucher at Crossfire Steakhouse\n\nValid 12/31/25 only; excludes alcohol\, tax\, gratuity\n\n\n1-night stay at The Inn at Circle T\nPackage valid for up to 2 registered guests per room\nNon-refundable after December 15\, 2025\nCannot be combined with any other offer or discount\n\nAvailable From: Wednesday\, December 31\, 2025Available To: Thursday\, January 1\, 2026Package Length: 1 Night \nhttps://res.windsurfercrs.com/ibe/details.aspx?hotelID=14966&lang=en-us&voucher=&pkgID=5973&currID=1&access=
URL:https://circletarena.net/event/keys-countdown-new-years-eve/
LOCATION:The Event Center
CATEGORIES:Live Music
ATTACH;FMTTYPE=image/png:https://circletarena.net/wp-content/uploads/2025/10/CTA-Feature.png
ORGANIZER;CN="Crossfire Cantina":MAILTO:foh@circletarena.net
END:VEVENT
END:VCALENDAR