BEGIN:VCALENDAR
VERSION:2.0
PRODID:-//Circle T Arena | Hamilton, Texas - ECPv6.15.16//NONSGML v1.0//EN
CALSCALE:GREGORIAN
METHOD:PUBLISH
X-ORIGINAL-URL:https://circletarena.net
X-WR-CALDESC:Events for Circle T Arena | Hamilton, Texas
REFRESH-INTERVAL;VALUE=DURATION:PT1H
X-Robots-Tag:noindex
X-PUBLISHED-TTL:PT1H
BEGIN:VTIMEZONE
TZID:America/Chicago
BEGIN:DAYLIGHT
TZOFFSETFROM:-0600
TZOFFSETTO:-0500
TZNAME:CDT
DTSTART:20250309T080000
END:DAYLIGHT
BEGIN:STANDARD
TZOFFSETFROM:-0500
TZOFFSETTO:-0600
TZNAME:CST
DTSTART:20251102T070000
END:STANDARD
BEGIN:DAYLIGHT
TZOFFSETFROM:-0600
TZOFFSETTO:-0500
TZNAME:CDT
DTSTART:20260308T080000
END:DAYLIGHT
BEGIN:STANDARD
TZOFFSETFROM:-0500
TZOFFSETTO:-0600
TZNAME:CST
DTSTART:20261101T070000
END:STANDARD
BEGIN:DAYLIGHT
TZOFFSETFROM:-0600
TZOFFSETTO:-0500
TZNAME:CDT
DTSTART:20270314T080000
END:DAYLIGHT
BEGIN:STANDARD
TZOFFSETFROM:-0500
TZOFFSETTO:-0600
TZNAME:CST
DTSTART:20271107T070000
END:STANDARD
END:VTIMEZONE
BEGIN:VEVENT
DTSTART;VALUE=DATE:20260418
DTEND;VALUE=DATE:20260420
DTSTAMP:20260419T084717
CREATED:20260304T224344Z
LAST-MODIFIED:20260307T141839Z
UID:10000326-1776470400-1776643199@circletarena.net
SUMMARY:Bizzy Bee Barrel- Texas Riviera
DESCRIPTION:EVENT INFO \nFacebook https://www.facebook.com/BizzyBeeProd
URL:https://circletarena.net/event/bizzy-bee-barrel-texas-riviera/
LOCATION:Circle T Arena – A\, TX
CATEGORIES:Arena Events
ATTACH;FMTTYPE=image/png:https://circletarena.net/wp-content/uploads/2026/03/Bizzy-Bee-The-Texas-Riviera.png
ORGANIZER;CN="Bizzy Bee Productions":MAILTO:bizzybeeprod.20@gmail.com
END:VEVENT
BEGIN:VEVENT
DTSTART;VALUE=DATE:20260418
DTEND;VALUE=DATE:20260420
DTSTAMP:20260419T084717
CREATED:20260402T235240Z
LAST-MODIFIED:20260408T204825Z
UID:10000331-1776470400-1776643199@circletarena.net
SUMMARY:Ranch Sorting of America
DESCRIPTION:About the Event:\nRanch Sorting of AmericaRanch Sorting of America is coming in hot with $3\,000 added money + a saddle award! Join us for fast-paced\, family-friendly ranch sorting action where teamwork\, skill\, and grit meet great payouts and top-notch competition. Don’t miss your chance to sort\, win\, and ride home with the prizes!
URL:https://circletarena.net/event/ranch-sorting-of-america-2/
LOCATION:Circle T Arena – B\, TX
CATEGORIES:Arena Events
ATTACH;FMTTYPE=image/png:https://circletarena.net/wp-content/uploads/2026/01/Ranch-Sorting-of-America.png
ORGANIZER;CN="Ranch Sorting of America":MAILTO:info@rsoaworld.com
END:VEVENT
BEGIN:VEVENT
DTSTART;VALUE=DATE:20260423
DTEND;VALUE=DATE:20260427
DTSTAMP:20260419T084717
CREATED:20260223T174256Z
LAST-MODIFIED:20260415T175048Z
UID:10000321-1776902400-1777247999@circletarena.net
SUMMARY:Stock Horse of Texas
DESCRIPTION:Deadline to fill out Google form has passed on April 10\, 2026\, please book stalls and rvs on our website \n 
URL:https://circletarena.net/event/stock-horse-of-texas/
LOCATION:Circle T Arena – A & B\, TX
CATEGORIES:Arena Events
ATTACH;FMTTYPE=image/png:https://circletarena.net/wp-content/uploads/2025/02/SHOT-Featured-.png
ORGANIZER;CN="Stock Horse of Texas":MAILTO:shtx@stockhorsetexas.org
END:VEVENT
BEGIN:VEVENT
DTSTART;TZID=America/Chicago:20260423T200000
DTEND;TZID=America/Chicago:20260423T230000
DTSTAMP:20260419T084717
CREATED:20260320T200738Z
LAST-MODIFIED:20260320T200750Z
UID:10000328-1776974400-1776985200@circletarena.net
SUMMARY:Wade P Johnson
DESCRIPTION:About the Event:\nWade Paul Johnson\n\nHello and Welcome to  Wade’s World Music! \nI am a versatile Singer-Songwriter-Guitarist based near Hamilton\, Texas since June of 2024.  \nI play well over 300 songs in musical genres such as Americana\, Country\, Classic Rock\, Folk and Power Pop. \nI have been performing professionally for many\, many years. I was also signed as staff songwriter and recording artist by the legendary Dan Penn for his publishing company and Beautiful Sounds Recording Studio in Memphis\, Tennessee.  \nI have performed across Texas\, New Mexico\, Colorado\, Wyoming\, Oklahoma\, Arkansas\, Louisiana\, Tennessee\, Minnesota\, and Mississippi. \nI currently have (3) mp3 singles receiving airplay across the U.S. and Europe and I’m in the midst of recording an album that  I hope to release in 2025. \nI have played over 100 Facebook Live shows that reach throughout the World for the past 5 years that I still do every other Wednesday night. \nI also play senior homes and memory care centers and I’m available for private parties\, concerts\, and home concerts. \nI love playing music and hope I will be playing for you wherever you may be. \n\nFollow Wade Johnson at his website or Facebook for other upcoming events. 
URL:https://circletarena.net/event/wade-johnson/
LOCATION:Crossfire Cantina
CATEGORIES:Live Music
ATTACH;FMTTYPE=image/png:https://circletarena.net/wp-content/uploads/2025/09/Wade-Johnson-Feature.png
ORGANIZER;CN="Crossfire Cantina":MAILTO:foh@circletarena.net
END:VEVENT
BEGIN:VEVENT
DTSTART;TZID=America/Chicago:20260425T200000
DTEND;TZID=America/Chicago:20260425T235900
DTSTAMP:20260419T084717
CREATED:20260415T162100Z
LAST-MODIFIED:20260415T162100Z
UID:10000333-1777147200-1777161540@circletarena.net
SUMMARY:Coston Cross
DESCRIPTION:About the Artist:\nBIOGRAPHY \nOver 20 years ago\, no one would have known the remarkable journey that awaited Coston Cross. Starting from an elementary talent show stage\, he has been propelled to grace countless stages and share his talent with audiences far and wide. From those humble beginnings\, Coston has honed his craft\, capturing the hearts of listeners with his authentic style. Along the way\, he has had the privilege of opening for some of the biggest names in country music\, such as Billy ”Crash” Craddock\, Diamond Rio\, John Michael Montgomery\, as well as many others. \nCross’ latest album\, “Haunted\,” dives deep into the essence of storytelling\, weaving tales of love\, loss\, and reminiscing of days gone by. With the title track\, he invites listeners on a journey through the shadows of the human experience\, exploring themes of longing\, regret\, and the ghosts of the past. Whereas “Weekends With You” is an anthem for the average working person and “Love In Your Eyes” is a heartfelt love song. Through his distinct blend of traditional country sound and contemporary sensibility\, Cross crafts a musical landscape that is both timeless and deeply resonant. This album stands as a testament to Cross’ artistry and his ability to capture the essence of life’s most profound moments through song. \nCoston prides himself on his independence as an artist\, bringing an engaging live show to his audience with his band. Each performance is a testament to his commitment to authenticity and his passion for connecting with his fans through the power of music. With his dedication and infectious energy on stage\, Coston Cross creates memorable experiences that leave a lasting impression on all who attend his shows. \nFacebook\nWebsite
URL:https://circletarena.net/event/coston-cross-2/
LOCATION:Crossfire Cantina
CATEGORIES:Live Music
ATTACH;FMTTYPE=image/jpeg:https://circletarena.net/wp-content/uploads/2025/05/Coston-Cross-Featured-Image-2.jpg
ORGANIZER;CN="Crossfire Cantina":MAILTO:foh@circletarena.net
END:VEVENT
BEGIN:VEVENT
DTSTART;VALUE=DATE:20260430
DTEND;VALUE=DATE:20260504
DTSTAMP:20260419T084717
CREATED:20260317T163009Z
LAST-MODIFIED:20260317T163257Z
UID:10000327-1777507200-1777852799@circletarena.net
SUMMARY:Money & Beaches Barrel Race
DESCRIPTION:About the Event:\nMoney and Beaches Barrel Race \nFor more information call Blake Myers 254-977-2395 or Kelli Ann 254-223-1224 \n			\n				BOOK STALLS & RVS
URL:https://circletarena.net/event/money-beaches-barrel-race/
LOCATION:Circle T Arena – A & B\, TX
CATEGORIES:Arena Events
ATTACH;FMTTYPE=image/png:https://circletarena.net/wp-content/uploads/2026/03/Money-Beaches-Feature.png
ORGANIZER;CN="Bizzy Bee Productions":MAILTO:bizzybeeprod.20@gmail.com
END:VEVENT
END:VCALENDAR