BEGIN:VCALENDAR
VERSION:2.0
PRODID:-//Circle T Arena | Hamilton, Texas - ECPv6.15.16//NONSGML v1.0//EN
CALSCALE:GREGORIAN
METHOD:PUBLISH
X-WR-CALNAME:Circle T Arena | Hamilton, Texas
X-ORIGINAL-URL:https://circletarena.net
X-WR-CALDESC:Events for Circle T Arena | Hamilton, Texas
REFRESH-INTERVAL;VALUE=DURATION:PT1H
X-Robots-Tag:noindex
X-PUBLISHED-TTL:PT1H
BEGIN:VTIMEZONE
TZID:America/Chicago
BEGIN:DAYLIGHT
TZOFFSETFROM:-0600
TZOFFSETTO:-0500
TZNAME:CDT
DTSTART:20230312T080000
END:DAYLIGHT
BEGIN:STANDARD
TZOFFSETFROM:-0500
TZOFFSETTO:-0600
TZNAME:CST
DTSTART:20231105T070000
END:STANDARD
BEGIN:DAYLIGHT
TZOFFSETFROM:-0600
TZOFFSETTO:-0500
TZNAME:CDT
DTSTART:20240310T080000
END:DAYLIGHT
BEGIN:STANDARD
TZOFFSETFROM:-0500
TZOFFSETTO:-0600
TZNAME:CST
DTSTART:20241103T070000
END:STANDARD
BEGIN:DAYLIGHT
TZOFFSETFROM:-0600
TZOFFSETTO:-0500
TZNAME:CDT
DTSTART:20250309T080000
END:DAYLIGHT
BEGIN:STANDARD
TZOFFSETFROM:-0500
TZOFFSETTO:-0600
TZNAME:CST
DTSTART:20251102T070000
END:STANDARD
BEGIN:DAYLIGHT
TZOFFSETFROM:-0600
TZOFFSETTO:-0500
TZNAME:CDT
DTSTART:20260308T080000
END:DAYLIGHT
BEGIN:STANDARD
TZOFFSETFROM:-0500
TZOFFSETTO:-0600
TZNAME:CST
DTSTART:20261101T070000
END:STANDARD
BEGIN:DAYLIGHT
TZOFFSETFROM:-0600
TZOFFSETTO:-0500
TZNAME:CDT
DTSTART:20270314T080000
END:DAYLIGHT
BEGIN:STANDARD
TZOFFSETFROM:-0500
TZOFFSETTO:-0600
TZNAME:CST
DTSTART:20271107T070000
END:STANDARD
END:VTIMEZONE
BEGIN:VEVENT
DTSTART;VALUE=DATE:20260131
DTEND;VALUE=DATE:20260202
DTSTAMP:20260425T162828
CREATED:20260102T194623Z
LAST-MODIFIED:20260127T181640Z
UID:10000289-1769817600-1769990399@circletarena.net
SUMMARY:Central Texas Barrel Racing Association- CTBRA
DESCRIPTION:STALL AND RV OFFICE HOURS\nFRIDAY: 3 PM – 8 PMSATURDAY: 8 AM – 8 PMSUNDAY: CLOSED \n			\n				\n				\n				\n				\n				\nFacebook\n			\n				\n				\n				\n				\n				About the Event:\nCTBRA Season Opener$2000 in Added Money
URL:https://circletarena.net/event/central-texas-barrel-racing-association-ctbra-6/
LOCATION:Circle T Arena – A\, TX
CATEGORIES:Arena Events
ATTACH;FMTTYPE=image/png:https://circletarena.net/wp-content/uploads/2026/01/CTBRA-Feature-Image-1.png
ORGANIZER;CN="Central Texas Barrel Racing Association (CTBRA)":MAILTO:becky@skbventures.com
END:VEVENT
BEGIN:VEVENT
DTSTART;VALUE=DATE:20250926
DTEND;VALUE=DATE:20250929
DTSTAMP:20260425T162828
CREATED:20250815T234144Z
LAST-MODIFIED:20250908T134347Z
UID:10000226-1758844800-1759103999@circletarena.net
SUMMARY:Central Texas Barrel Racing Association- CTBRA
DESCRIPTION:STALL AND RV OFFICE HOURS\nFRIDAY: 8 AM – 10 PMSATURDAY: 8 AM – 11 PMSUNDAY: CLOSED \n			\n				RESERVE STALLS AND RVS\n			\n				\n				\n				\n				\n				 About the Event:\nCentral Texas Barrel Racing Association Finals
URL:https://circletarena.net/event/central-texas-barrel-racing-association-ctbra-4/
LOCATION:Circle T Arena – A\, TX
CATEGORIES:Arena Events
ATTACH;FMTTYPE=image/png:https://circletarena.net/wp-content/uploads/2025/04/CTBRA-Feature-Image-1.png
ORGANIZER;CN="Central Texas Barrel Racing Association (CTBRA)":MAILTO:becky@skbventures.com
END:VEVENT
BEGIN:VEVENT
DTSTART;VALUE=DATE:20250816
DTEND;VALUE=DATE:20250818
DTSTAMP:20260425T162828
CREATED:20250723T142031Z
LAST-MODIFIED:20250804T224939Z
UID:10000208-1755302400-1755475199@circletarena.net
SUMMARY:Central Texas Barrel Racing Association- CTBRA
DESCRIPTION:STALL AND RV OFFICE HOURS\nFRIDAY: 3 PM – 10 PMSATURDAY: 8 AM – 11 PMSUNDAY: CLOSED \n			\n				RESERVE STALLS AND RVS\n			\n				\n				\n				\n				\n				For more information see the CTBRA website. \n 
URL:https://circletarena.net/event/central-texas-barrel-racing-association-ctbra-3/
LOCATION:Circle T Arena – A\, TX
CATEGORIES:Arena Events
ATTACH;FMTTYPE=image/png:https://circletarena.net/wp-content/uploads/2025/04/CTBRA-Feature-Image-1.png
ORGANIZER;CN="Central Texas Barrel Racing Association (CTBRA)":MAILTO:becky@skbventures.com
END:VEVENT
BEGIN:VEVENT
DTSTART;VALUE=DATE:20250711
DTEND;VALUE=DATE:20250714
DTSTAMP:20260425T162828
CREATED:20250628T024827Z
LAST-MODIFIED:20250630T154605Z
UID:10000203-1752192000-1752451199@circletarena.net
SUMMARY:15th Annual Summer Splash
DESCRIPTION:STALL AND RV OFFICE HOURS\nTHURSDAY: 8 AM – 10 PMSATURDAY: 8 AM – 11 PMSUNDAY: CLOSED \n\n			\n				\n				\n				\n				\n				\nAbout the Event:\nSummer Splash Barrel Race$7500 Added MoneyFor more information see the CTBRA Website \n  \n 
URL:https://circletarena.net/event/15th-annual-summer-splash/
LOCATION:Circle T Arena – A\, TX
CATEGORIES:Arena Events
ATTACH;FMTTYPE=image/png:https://circletarena.net/wp-content/uploads/2025/04/CTBRA-Feature-Image-1.png
ORGANIZER;CN="Central Texas Barrel Racing Association (CTBRA)":MAILTO:becky@skbventures.com
END:VEVENT
BEGIN:VEVENT
DTSTART;VALUE=DATE:20250621
DTEND;VALUE=DATE:20250623
DTSTAMP:20260425T162828
CREATED:20250430T160740Z
LAST-MODIFIED:20250528T173707Z
UID:10000172-1750464000-1750636799@circletarena.net
SUMMARY:Central Texas Barrel Racing Association- CTBRA
DESCRIPTION:STALL AND RV OFFICE HOURS\nFRIDAY: 3 PM – 9 PMSATURDAY: 8 AM – 8 PMSUNDAY: CLOSED \n			\n				\n				\n				\n				\n				For more information see the CTBRA website. 
URL:https://circletarena.net/event/central-texas-barrel-racing-association-ctbra-2/
LOCATION:Circle T Arena – A\, TX
CATEGORIES:Arena Events
ATTACH;FMTTYPE=image/png:https://circletarena.net/wp-content/uploads/2025/04/CTBRA-Feature-Image-1.png
ORGANIZER;CN="Central Texas Barrel Racing Association (CTBRA)":MAILTO:becky@skbventures.com
END:VEVENT
BEGIN:VEVENT
DTSTART;VALUE=DATE:20250510
DTEND;VALUE=DATE:20250512
DTSTAMP:20260425T162828
CREATED:20250317T164951Z
LAST-MODIFIED:20250430T152711Z
UID:10000149-1746835200-1747007999@circletarena.net
SUMMARY:Central Texas Barrel Racing Association- CTBRA
DESCRIPTION:STALL AND RV OFFICE HOURS\nFRIDAY: 3 PM – 10 PMSATURDAY: 8 AM – 8 PMSUNDAY: CLOSED \n			\n				\n				\n				\n				\n				 \nAbout the Event:\nOur May Race is packed full with extras!! Annual Dog Race on Saturday! Better Barrel Races TX NBHA district 23 and 24 The Non-Incentive Horse & The Open Horse. $200 Added Mother’s Day Incentive on Sunday. Mother’s Day Brunch at the Circle T Arena Steakhouse. Lucky 7’s Bonus money at $577 (if no winner at the April Race). (Books open mid April).For more information see the CTBRA website.  \n 
URL:https://circletarena.net/event/central-texas-barrel-racing-association-ctbra/
LOCATION:Circle T Arena – A\, TX
CATEGORIES:Arena Events
ATTACH;FMTTYPE=image/png:https://circletarena.net/wp-content/uploads/2025/03/CTBRA-Feature-Image.png
ORGANIZER;CN="Central Texas Barrel Racing Association (CTBRA)":MAILTO:becky@skbventures.com
END:VEVENT
BEGIN:VEVENT
DTSTART;VALUE=DATE:20250222
DTEND;VALUE=DATE:20250224
DTSTAMP:20260425T162828
CREATED:20250206T144238Z
LAST-MODIFIED:20250206T144249Z
UID:10000111-1740182400-1740355199@circletarena.net
SUMMARY:Central Texas Barrel Racing Association
DESCRIPTION:STALL AND RV OFFICE HOURS\nFRIDAY: 3 PM – 10 PMSATURDAY: 8 AM – 10 PMSUNDAY: CLOSED \n			\n				\n				\n				\n				\n				\nAbout the Event:\nFor more information see the CTBRA website.  \n \n 
URL:https://circletarena.net/event/central-texas-barrel-racing-association/
LOCATION:Circle T Arena – A\, TX
CATEGORIES:Arena Events
ATTACH;FMTTYPE=image/png:https://circletarena.net/wp-content/uploads/2025/01/CTBRA-Feature-Image.png
ORGANIZER;CN="Central Texas Barrel Racing Association (CTBRA)":MAILTO:becky@skbventures.com
END:VEVENT
BEGIN:VEVENT
DTSTART;VALUE=DATE:20250201
DTEND;VALUE=DATE:20250203
DTSTAMP:20260425T162828
CREATED:20241230T213652Z
LAST-MODIFIED:20250116T201938Z
UID:10000103-1738368000-1738540799@circletarena.net
SUMMARY:Central Texas Barrel Racing Association
DESCRIPTION:STALL AND RV OFFICE HOURS\nFRIDAY: 3 PM – 10 PMSATURDAY: 8 AM – 10 PMSUNDAY: CLOSED \n			\n				\n				\n				\n				\n				About the Event:\nEntries open Jan 1 on SaddleBook. We realize this date is the same as the BBR race in Glen Rose and will try to accommodate riders competing in both races. \nFor more information see the CTBRA website.  \n 
URL:https://circletarena.net/event/ctbra_feb2025/
LOCATION:Circle T Arena – A\, TX
CATEGORIES:Arena Events
ATTACH;FMTTYPE=image/png:https://circletarena.net/wp-content/uploads/2024/12/CTBRA-Feature-Image.png
ORGANIZER;CN="Central Texas Barrel Racing Association (CTBRA)":MAILTO:becky@skbventures.com
END:VEVENT
BEGIN:VEVENT
DTSTART;VALUE=DATE:20240817
DTEND;VALUE=DATE:20240819
DTSTAMP:20260425T162828
CREATED:20240718T172933Z
LAST-MODIFIED:20240726T174516Z
UID:10000032-1723852800-1724025599@circletarena.net
SUMMARY:CTBRA Barrel Race
DESCRIPTION:STALL AND RV OFFICE HOURS\nFRIDAY: 4 PM – 9 PMSATURDAY: 8 AM – 10 PMSUNDAY: CLOSED
URL:https://circletarena.net/event/ctbra-barrel-race/
LOCATION:Circle T Arena – A\, TX
CATEGORIES:Arena Events
ATTACH;FMTTYPE=image/png:https://circletarena.net/wp-content/uploads/2024/07/CTBRA-August-2024-.png
ORGANIZER;CN="Central Texas Barrel Racing Association (CTBRA)":MAILTO:becky@skbventures.com
END:VEVENT
END:VCALENDAR