BEGIN:VCALENDAR
VERSION:2.0
PRODID:-//Circle T Arena | Hamilton, Texas - ECPv6.15.16//NONSGML v1.0//EN
CALSCALE:GREGORIAN
METHOD:PUBLISH
X-WR-CALNAME:Circle T Arena | Hamilton, Texas
X-ORIGINAL-URL:https://circletarena.net
X-WR-CALDESC:Events for Circle T Arena | Hamilton, Texas
REFRESH-INTERVAL;VALUE=DURATION:PT1H
X-Robots-Tag:noindex
X-PUBLISHED-TTL:PT1H
BEGIN:VTIMEZONE
TZID:America/Chicago
BEGIN:DAYLIGHT
TZOFFSETFROM:-0600
TZOFFSETTO:-0500
TZNAME:CDT
DTSTART:20230312T080000
END:DAYLIGHT
BEGIN:STANDARD
TZOFFSETFROM:-0500
TZOFFSETTO:-0600
TZNAME:CST
DTSTART:20231105T070000
END:STANDARD
BEGIN:DAYLIGHT
TZOFFSETFROM:-0600
TZOFFSETTO:-0500
TZNAME:CDT
DTSTART:20240310T080000
END:DAYLIGHT
BEGIN:STANDARD
TZOFFSETFROM:-0500
TZOFFSETTO:-0600
TZNAME:CST
DTSTART:20241103T070000
END:STANDARD
BEGIN:DAYLIGHT
TZOFFSETFROM:-0600
TZOFFSETTO:-0500
TZNAME:CDT
DTSTART:20250309T080000
END:DAYLIGHT
BEGIN:STANDARD
TZOFFSETFROM:-0500
TZOFFSETTO:-0600
TZNAME:CST
DTSTART:20251102T070000
END:STANDARD
BEGIN:DAYLIGHT
TZOFFSETFROM:-0600
TZOFFSETTO:-0500
TZNAME:CDT
DTSTART:20260308T080000
END:DAYLIGHT
BEGIN:STANDARD
TZOFFSETFROM:-0500
TZOFFSETTO:-0600
TZNAME:CST
DTSTART:20261101T070000
END:STANDARD
END:VTIMEZONE
BEGIN:VEVENT
DTSTART;VALUE=DATE:20251011
DTEND;VALUE=DATE:20251013
DTSTAMP:20260420T045911
CREATED:20250903T165052Z
LAST-MODIFIED:20251011T013751Z
UID:10000246-1760140800-1760313599@circletarena.net
SUMMARY:4th Annual Novice Horse Finals
DESCRIPTION:STALL AND RV OFFICE HOURS\nFRIDAY: 3 PM – 9 PMSATURDAY: 9 AM – 8 PMMONDAY: CLOSED \n			\n				BOOK STALLS AND RVS\n			\n				\n				\n				\n				\n				 About the Event:\n4th Annual Novice Horse Finals and Red Leaf RunFor more information Se’Vette Early 254-223-1220
URL:https://circletarena.net/event/novice-horse-finals/
LOCATION:Circle T Arena – A\, TX
CATEGORIES:Arena Events
ATTACH;FMTTYPE=image/png:https://circletarena.net/wp-content/uploads/2025/09/4th-Annual-Novice-Horse-Finals-Barrel-Race.png
ORGANIZER;CN="Rafter E Productions":MAILTO:raftereprod@gmail.com
END:VEVENT
BEGIN:VEVENT
DTSTART;VALUE=DATE:20250802
DTEND;VALUE=DATE:20250804
DTSTAMP:20260420T045911
CREATED:20250611T184059Z
LAST-MODIFIED:20250724T175002Z
UID:10000198-1754092800-1754265599@circletarena.net
SUMMARY:3rd Annual Youth Super Bowl Barrel Race
DESCRIPTION:STALL AND RV OFFICE HOURS\nFRIDAY: 3 PM – 10 PMSATURDAY: 8 AM – 11 PMMONDAY: CLOSED \n			\n				\n				\n				\n				\n				 \nAbout the Event:\n3rd Annual Youth Super Bowl plus Open 5D Race  \n***Updated to Saturday/ Sunday only\, new flyers coming soon  \n$1000 Minimum Added MoneyBooks Open June 16th at tinyurl.com/2025YSB
URL:https://circletarena.net/event/youth-super-bowl-barrels/
LOCATION:Circle T Arena – A\, TX
CATEGORIES:Arena Events
ATTACH;FMTTYPE=image/png:https://circletarena.net/wp-content/uploads/2025/06/Youth-Super-Bowl-1.png
ORGANIZER;CN="Rafter E Productions":MAILTO:raftereprod@gmail.com
END:VEVENT
BEGIN:VEVENT
DTSTART;VALUE=DATE:20250704
DTEND;VALUE=DATE:20250706
DTSTAMP:20260420T045911
CREATED:20250611T182546Z
LAST-MODIFIED:20250701T154249Z
UID:10000197-1751587200-1751759999@circletarena.net
SUMMARY:Spangle & Splash Barrel Race
DESCRIPTION:STALL AND RV OFFICE HOURS\nFRIDAY: 8 AM – 10 PMSATURDAY: 8 AM – 11 PMSUNDAY: CLOSED \n			\n				\n				\n				\n				\n				About the Event:\nSplash & Spangle Barrel Race$2500 Added Money Patriotic Best Dressed Awarded Each Day
URL:https://circletarena.net/event/spangle-splash-barrels/
LOCATION:Circle T Arena – A\, TX
CATEGORIES:Arena Events
ATTACH;FMTTYPE=image/png:https://circletarena.net/wp-content/uploads/2025/06/Spangle-and-Splash-Feature-Image.png
ORGANIZER;CN="Rafter E Productions":MAILTO:raftereprod@gmail.com
END:VEVENT
BEGIN:VEVENT
DTSTART;VALUE=DATE:20250531
DTEND;VALUE=DATE:20250602
DTSTAMP:20260420T045911
CREATED:20250430T152205Z
LAST-MODIFIED:20250521T142034Z
UID:10000169-1748649600-1748822399@circletarena.net
SUMMARY:McGregor Lions Club 9th Annual Open 5D Barrel Race
DESCRIPTION:STALL AND RV OFFICE HOURS\nFRIDAY: 4 PM – 9 PMSATURDAY: 10 AM – 10 PMSUNDAY: CLOSED \n			\n				\n				\n				\n				\n				McGregor Lions Club 9th Annual Open 5D Barrel Race\n$2800 Added Money\nEnter online for Race May 31Enter online for Race June 1 \nCheck Rafter E Productions website for the most current flyers.  \n 
URL:https://circletarena.net/event/rafter-e-barrel-race/
LOCATION:Circle T Arena – A\, TX
CATEGORIES:Arena Events
ATTACH;FMTTYPE=image/png:https://circletarena.net/wp-content/uploads/2025/04/McGreogor-Lions-Club-Barrel-Race-Feature.png
ORGANIZER;CN="Rafter E Productions":MAILTO:raftereprod@gmail.com
END:VEVENT
BEGIN:VEVENT
DTSTART;TZID=America/Chicago:20241222T080000
DTEND;TZID=America/Chicago:20241222T180000
DTSTAMP:20260420T045911
CREATED:20241105T163441Z
LAST-MODIFIED:20241107T214957Z
UID:10000089-1734854400-1734890400@circletarena.net
SUMMARY:Challenge of Champions Year End Finals
DESCRIPTION:About the Event:\nOpen to everyone to enter. This event is brought in conjunction with CJ Chapman Scholarship Race on Dec. 21st.  
URL:https://circletarena.net/event/challenge-of-champions-year-end-finals/
LOCATION:Circle T Arena – A\, TX
CATEGORIES:Arena Events
ATTACH;FMTTYPE=image/png:https://circletarena.net/wp-content/uploads/2024/11/Rafter-E-Challenge-of-the-Champions.png
ORGANIZER;CN="Rafter E Productions":MAILTO:raftereprod@gmail.com
END:VEVENT
BEGIN:VEVENT
DTSTART;TZID=America/Chicago:20241221T080000
DTEND;TZID=America/Chicago:20241221T170000
DTSTAMP:20260420T045911
CREATED:20241105T154518Z
LAST-MODIFIED:20241107T215232Z
UID:10000088-1734768000-1734800400@circletarena.net
SUMMARY:CJ Chapman Scholarship Race
DESCRIPTION:STALL AND RV OFFICE HOURS\nSATURDAY: 8 AM – 8 PM \n			\n				\n				\n				\n				\n				\nAbout the Event:\nJoin us for the 3rd Annual CJ Chapman Scholarship Race!  Stay an extra day and compete in the Challenge of Champions on Dec 22nd. 
URL:https://circletarena.net/event/cj-chapman-scholarship-race/
LOCATION:Circle T Arena – A\, TX
CATEGORIES:Arena Events
ATTACH;FMTTYPE=image/png:https://circletarena.net/wp-content/uploads/2024/11/Rafter-E-CJ-Chapman-Scholarship-Fund-Race-2.png
ORGANIZER;CN="Rafter E Productions":MAILTO:raftereprod@gmail.com
END:VEVENT
BEGIN:VEVENT
DTSTART;VALUE=DATE:20241018
DTEND;VALUE=DATE:20241021
DTSTAMP:20260420T045911
CREATED:20240718T211207Z
LAST-MODIFIED:20241002T040224Z
UID:10000049-1729209600-1729468799@circletarena.net
SUMMARY:McGregor Lions Club 8th Annual Open 5D Barrel Race
DESCRIPTION:STALL AND RV OFFICE HOURS\nFRIDAY: 12 PM – 10 PMSATURDAY: 8 AM – 8 PMSUNDAY: CLOSED
URL:https://circletarena.net/event/mcgregor-lions-club-8th-annual-open-5d-barrel-race/
LOCATION:Circle T Arena – B\, TX
CATEGORIES:Arena Events
ATTACH;FMTTYPE=image/png:https://circletarena.net/wp-content/uploads/2024/07/circle-t-icon.png
ORGANIZER;CN="Rafter E Productions":MAILTO:raftereprod@gmail.com
END:VEVENT
BEGIN:VEVENT
DTSTART;TZID=America/Chicago:20240803T093000
DTEND;TZID=America/Chicago:20240803T130000
DTSTAMP:20260420T045911
CREATED:20240716T190401Z
LAST-MODIFIED:20240723T040720Z
UID:10000028-1722677400-1722690000@circletarena.net
SUMMARY:2nd Super Bowl Open 5D Pole Bending
DESCRIPTION:STALL AND RV OFFICE HOURS\nFRIDAY: 4 PM – 10 PMSATURDAY: 8 AM – 9 PMSUNDAY: CLOSED
URL:https://circletarena.net/event/2nd-super-bowl-open-5d-pole-bending/
LOCATION:Circle T Arena – A\, TX
CATEGORIES:Arena Events
ATTACH;FMTTYPE=image/png:https://circletarena.net/wp-content/uploads/2024/07/Karaoke-Log-1.png
ORGANIZER;CN="Rafter E Productions":MAILTO:raftereprod@gmail.com
END:VEVENT
BEGIN:VEVENT
DTSTART;VALUE=DATE:20240803
DTEND;VALUE=DATE:20240805
DTSTAMP:20260420T045911
CREATED:20240715T184338Z
LAST-MODIFIED:20240723T040841Z
UID:10000026-1722643200-1722815999@circletarena.net
SUMMARY:2nd Annual Youth Super Bowl
DESCRIPTION:STALL AND RV OFFICE HOURS\nFRIDAY: 4 PM – 10 PMSATURDAY: 8 AM – 9 PMSUNDAY: CLOSED \n			\n				\n				\n				\n				\n				 
URL:https://circletarena.net/event/2nd-annual-youth-super-bowl-open-5d/
LOCATION:Circle T Arena – A\, TX
CATEGORIES:Arena Events
ATTACH;FMTTYPE=image/png:https://circletarena.net/wp-content/uploads/2024/07/Karaoke-Log-1-1.png
ORGANIZER;CN="Rafter E Productions":MAILTO:raftereprod@gmail.com
END:VEVENT
END:VCALENDAR