BEGIN:VCALENDAR
VERSION:2.0
PRODID:-//Circle T Arena | Hamilton, Texas - ECPv6.15.16//NONSGML v1.0//EN
CALSCALE:GREGORIAN
METHOD:PUBLISH
X-ORIGINAL-URL:https://circletarena.net
X-WR-CALDESC:Events for Circle T Arena | Hamilton, Texas
REFRESH-INTERVAL;VALUE=DURATION:PT1H
X-Robots-Tag:noindex
X-PUBLISHED-TTL:PT1H
BEGIN:VTIMEZONE
TZID:America/Chicago
BEGIN:DAYLIGHT
TZOFFSETFROM:-0600
TZOFFSETTO:-0500
TZNAME:CDT
DTSTART:20230312T080000
END:DAYLIGHT
BEGIN:STANDARD
TZOFFSETFROM:-0500
TZOFFSETTO:-0600
TZNAME:CST
DTSTART:20231105T070000
END:STANDARD
BEGIN:DAYLIGHT
TZOFFSETFROM:-0600
TZOFFSETTO:-0500
TZNAME:CDT
DTSTART:20240310T080000
END:DAYLIGHT
BEGIN:STANDARD
TZOFFSETFROM:-0500
TZOFFSETTO:-0600
TZNAME:CST
DTSTART:20241103T070000
END:STANDARD
BEGIN:DAYLIGHT
TZOFFSETFROM:-0600
TZOFFSETTO:-0500
TZNAME:CDT
DTSTART:20250309T080000
END:DAYLIGHT
BEGIN:STANDARD
TZOFFSETFROM:-0500
TZOFFSETTO:-0600
TZNAME:CST
DTSTART:20251102T070000
END:STANDARD
BEGIN:DAYLIGHT
TZOFFSETFROM:-0600
TZOFFSETTO:-0500
TZNAME:CDT
DTSTART:20260308T080000
END:DAYLIGHT
BEGIN:STANDARD
TZOFFSETFROM:-0500
TZOFFSETTO:-0600
TZNAME:CST
DTSTART:20261101T070000
END:STANDARD
BEGIN:DAYLIGHT
TZOFFSETFROM:-0600
TZOFFSETTO:-0500
TZNAME:CDT
DTSTART:20270314T080000
END:DAYLIGHT
BEGIN:STANDARD
TZOFFSETFROM:-0500
TZOFFSETTO:-0600
TZNAME:CST
DTSTART:20271107T070000
END:STANDARD
END:VTIMEZONE
BEGIN:VEVENT
DTSTART;VALUE=DATE:20260306
DTEND;VALUE=DATE:20260309
DTSTAMP:20260421T085613
CREATED:20250818T142229Z
LAST-MODIFIED:20260209T182641Z
UID:10000235-1772755200-1773014399@circletarena.net
SUMMARY:Region X Rodeo
DESCRIPTION:STALL AND RV OFFICE HOURS\nFRIDAY: 3 PM – 10 PM\nSATURDAY: 8 AM – 10 PM\nSUNDAY: CLOSED \n			\n				\n				\n				\n				\n				\n			\n				\n				\n				\n				\n				\n2025-2026 TJHRA & THSRARegion X Rodeo \nFor more information see the Region X Website \nREGION X PROM: March 6\, 2026 \nAll Rodeos are held in Hamilton Tx at Circle T arena. Jr High Starts at 8:30 am and High School begins shortly after Jr high is over.  \nAll Rough Stock is done on Saturdays  \, We have Church on Sunday between the Jr High and High School Rodeo. \n 
URL:https://circletarena.net/event/region-x-rodeo-march2026/
LOCATION:Circle T Arena – A\, TX
CATEGORIES:Arena Events
ATTACH;FMTTYPE=image/jpeg:https://circletarena.net/wp-content/uploads/2024/07/lg-Region-X-logo-1.jpg
ORGANIZER;CN="REGX":MAILTO:texasregion10@gmail.com
END:VEVENT
BEGIN:VEVENT
DTSTART;VALUE=DATE:20260220
DTEND;VALUE=DATE:20260223
DTSTAMP:20260421T085613
CREATED:20251230T200957Z
LAST-MODIFIED:20251230T201006Z
UID:10000275-1771545600-1771804799@circletarena.net
SUMMARY:Region X Rodeo
DESCRIPTION:STALL AND RV OFFICE HOURS\nFRIDAY: 3 PM – 8 PMSATURDAY: 8 AM – 8 PMSUNDAY: CLOSED \nPlease reserve stalls and rvs ahead of time.  \n			\n				\n				\n				\n				\n				\n2025-2026 TJHRA & THSRARegion X Rodeo \nFor more information see the Region X Website \nAll Rodeos are held in Hamilton Tx at Circle T arena. Jr High Starts at 8:30 am and High School begins shortly after Jr high is over.  \nAll Rough Stock is done on Saturdays  \, We have Church on Sunday between the Jr High and High School Rodeo. \n 
URL:https://circletarena.net/event/region-x-rodeo/
LOCATION:Circle T Arena – A\, TX
CATEGORIES:Arena Events
ATTACH;FMTTYPE=image/jpeg:https://circletarena.net/wp-content/uploads/2024/07/lg-Region-X-logo-1.jpg
ORGANIZER;CN="REGX":MAILTO:texasregion10@gmail.com
END:VEVENT
BEGIN:VEVENT
DTSTART;VALUE=DATE:20260206
DTEND;VALUE=DATE:20260209
DTSTAMP:20260421T085613
CREATED:20250818T141948Z
LAST-MODIFIED:20251230T200852Z
UID:10000234-1770336000-1770595199@circletarena.net
SUMMARY:Region X Rodeo
DESCRIPTION:STALL AND RV OFFICE HOURS\nFRIDAY: 3 PM – 8 PMSATURDAY: 8 AM – 8 PMSUNDAY: CLOSED \nPlease reserve stalls and rvs ahead of time.  \n			\n				\n				\n				\n				\n				\n2025-2026 TJHRA & THSRARegion X Rodeo \nFor more information see the Region X Website \nAll Rodeos are held in Hamilton Tx at Circle T arena. Jr High Starts at 8:30 am and High School begins shortly after Jr high is over.  \nAll Rough Stock is done on Saturdays  \, We have Church on Sunday between the Jr High and High School Rodeo. \n 
URL:https://circletarena.net/event/region-x-rodeo-feb2026/
LOCATION:Circle T Arena – A\, TX
CATEGORIES:Arena Events
ATTACH;FMTTYPE=image/jpeg:https://circletarena.net/wp-content/uploads/2024/07/lg-Region-X-logo-1.jpg
ORGANIZER;CN="REGX":MAILTO:texasregion10@gmail.com
END:VEVENT
BEGIN:VEVENT
DTSTART;VALUE=DATE:20260109
DTEND;VALUE=DATE:20260112
DTSTAMP:20260421T085613
CREATED:20250818T141817Z
LAST-MODIFIED:20260110T231532Z
UID:10000233-1767916800-1768175999@circletarena.net
SUMMARY:Region X Rodeo
DESCRIPTION:STALL AND RV OFFICE HOURS\nFRIDAY: 3 PM – 10 PM\nSATURDAY: 8 AM – 6 PM\nSUNDAY: CLOSED \n			\n				\n				\n				\n				\n				\n2025-2026 TJHRA & THSRA\nRegion X Rodeo \nFor more information see the Region X Website \nAll Rodeos are held in Hamilton Tx at Circle T arena. Jr High Starts at 8:30 am and High School begins shortly after Jr high is over.  \nAll Rough Stock is done on Saturdays  \, We have Church on Sunday between the Jr High and High School Rodeo. \n 
URL:https://circletarena.net/event/region-x-rodeo-jan2026/
LOCATION:Circle T Arena – A\, TX
CATEGORIES:Arena Events
ATTACH;FMTTYPE=image/jpeg:https://circletarena.net/wp-content/uploads/2024/07/lg-Region-X-logo-1.jpg
ORGANIZER;CN="REGX":MAILTO:texasregion10@gmail.com
END:VEVENT
BEGIN:VEVENT
DTSTART;VALUE=DATE:20251121
DTEND;VALUE=DATE:20251124
DTSTAMP:20260421T085613
CREATED:20250818T141603Z
LAST-MODIFIED:20251119T144334Z
UID:10000232-1763683200-1763942399@circletarena.net
SUMMARY:Region X Rodeo
DESCRIPTION:CANCELLED FOR NOV 21-23 \n\n2025-2026 TJHRA & THSRARegion X Rodeo \nFor more information see the Region X Website \nAll Rodeos are held in Hamilton Tx at Circle T arena. Jr High Starts at 8:30 am and High School begins shortly after Jr high is over.  \nAll Rough Stock is done on Saturdays  \, We have Church on Sunday between the Jr High and High School Rodeo. \n 
URL:https://circletarena.net/event/region-x-rodeo-nov21-23/
LOCATION:Circle T Arena – A\, TX
CATEGORIES:Arena Events
ATTACH;FMTTYPE=image/jpeg:https://circletarena.net/wp-content/uploads/2024/07/lg-Region-X-logo-1.jpg
ORGANIZER;CN="REGX":MAILTO:texasregion10@gmail.com
END:VEVENT
BEGIN:VEVENT
DTSTART;VALUE=DATE:20251031
DTEND;VALUE=DATE:20251103
DTSTAMP:20260421T085613
CREATED:20250818T141350Z
LAST-MODIFIED:20250905T172353Z
UID:10000231-1761868800-1762127999@circletarena.net
SUMMARY:Region X Rodeo
DESCRIPTION:STALL AND RV OFFICE HOURS\nFRIDAY: 3 PM – 10 PM\nSATURDAY: 8 AM – 10 PM\nSUNDAY: CLOSED \n			\n				BOOK STALLS AND RVS\n			\n				\n				\n				\n				\n				\n2025-2026 TJHRA & THSRA\nRegion X Rodeo \nFor more information see the Region X Website \nAll Rodeos are held in Hamilton Tx at Circle T arena. Jr High Starts at 8:30 am and High School begins shortly after Jr high is over.  \nAll Rough Stock is done on Saturdays  \, We have Church on Sunday between the Jr High and High School Rodeo. \n 
URL:https://circletarena.net/event/region-x-rodeo-nov1-2/
LOCATION:Circle T Arena – A\, TX
CATEGORIES:Arena Events
ATTACH;FMTTYPE=image/jpeg:https://circletarena.net/wp-content/uploads/2024/07/lg-Region-X-logo-1.jpg
ORGANIZER;CN="REGX":MAILTO:texasregion10@gmail.com
END:VEVENT
BEGIN:VEVENT
DTSTART;VALUE=DATE:20250913
DTEND;VALUE=DATE:20250915
DTSTAMP:20260421T085613
CREATED:20250815T233212Z
LAST-MODIFIED:20250818T140701Z
UID:10000225-1757721600-1757894399@circletarena.net
SUMMARY:Region X Rodeo
DESCRIPTION:STALL AND RV OFFICE HOURS\nFRIDAY: 3 PM – 10 PMSATURDAY: 8 AM – 10 PMSUNDAY: CLOSED \n			\n				BOOK STALLS AND RVS\n			\n				\n				\n				\n				\n				\n2025-2026 TJHRA & THSRA Region X Rodeo \nFor more information see the Region X Website \nAll Rodeos are held in Hamilton Tx at Circle T arena. Jr High Starts at 8:30 am and High School begins shortly after Jr high is over.  \nAll Rough Stock is done on Saturdays  \, We have Church on Sunday between the Jr High and High School Rodeo. \n 
URL:https://circletarena.net/event/region-x-rodeo-sept-2025/
LOCATION:Circle T Arena – A\, TX
CATEGORIES:Arena Events
ATTACH;FMTTYPE=image/jpeg:https://circletarena.net/wp-content/uploads/2024/07/lg-Region-X-logo-1.jpg
ORGANIZER;CN="REGX":MAILTO:texasregion10@gmail.com
END:VEVENT
BEGIN:VEVENT
DTSTART;VALUE=DATE:20250315
DTEND;VALUE=DATE:20250317
DTSTAMP:20260421T085613
CREATED:20241107T155932Z
LAST-MODIFIED:20250108T203133Z
UID:10000093-1741996800-1742169599@circletarena.net
SUMMARY:Region 10 Rodeo
DESCRIPTION:STALL AND RV OFFICE HOURS\nFRIDAY: 3 PM – 10 PM\nSATURDAY: 8 AM – 8 PM\nSUNDAY: CLOSED \n			\n				\n				\n				\n				\n				Jr. High Rodeo begins at 8:30am\nJr High Order Of Events\nBarrels\nRibbons\nBreakaway\nCalf Roping\nChute Dogging\nPoles\nTeam Roping\nGoats\nJr Bulls\nBareback on steers\nSaddle Bronc on steers \nHigh School rodeo to follow completion of Jr. High Rodeo.\nHigh School Order of Events\nBulls\nSaddle Bronc\nBareback\nBarrels\nCalf Roping\nBreakaway\nSteer Wrestling\nPoles\nTeam Roping\nGoats \nFor more event information please visit:  http://www.region10rodeo.com/home-1.html
URL:https://circletarena.net/event/region-10-rodeo-5/
LOCATION:Circle T Arena – A\, TX
CATEGORIES:Arena Events
ATTACH;FMTTYPE=image/jpeg:https://circletarena.net/wp-content/uploads/2024/07/lg-Region-X-logo-1.jpg
ORGANIZER;CN="REGX":MAILTO:texasregion10@gmail.com
END:VEVENT
BEGIN:VEVENT
DTSTART;VALUE=DATE:20250208
DTEND;VALUE=DATE:20250210
DTSTAMP:20260421T085613
CREATED:20241107T155730Z
LAST-MODIFIED:20250106T174307Z
UID:10000092-1738972800-1739145599@circletarena.net
SUMMARY:Region 10 Rodeo
DESCRIPTION:STALL AND RV OFFICE HOURS\nFRIDAY: 3 PM – 10 PMSATURDAY: 8 AM – 8 PMSUNDAY: CLOSED \n			\n				\n				\n				\n				\n				Jr. High Rodeo begins at 8:30am\nJr High Order Of Events\nBarrels\nRibbons\nBreakaway\nCalf Roping\nChute Dogging\nPoles\nTeam Roping\nGoats\nJr Bulls\nBareback on steers\nSaddle Bronc on steers \nHigh School rodeo to follow completion of Jr. High Rodeo.\nHigh School Order of Events\nBulls\nSaddle Bronc\nBareback\nBarrels\nCalf Roping\nBreakaway\nSteer Wrestling\nPoles\nTeam Roping\nGoats \nFor more event information please visit:  http://www.region10rodeo.com/home-1.html
URL:https://circletarena.net/event/region-10-rodeo-4/
LOCATION:Circle T Arena – A\, TX
CATEGORIES:Arena Events
ATTACH;FMTTYPE=image/jpeg:https://circletarena.net/wp-content/uploads/2024/07/lg-Region-X-logo-1.jpg
ORGANIZER;CN="REGX":MAILTO:texasregion10@gmail.com
END:VEVENT
BEGIN:VEVENT
DTSTART;VALUE=DATE:20250111
DTEND;VALUE=DATE:20250113
DTSTAMP:20260421T085613
CREATED:20241107T152434Z
LAST-MODIFIED:20250108T184708Z
UID:10000079-1736553600-1736726399@circletarena.net
SUMMARY:Region 10 Rodeo
DESCRIPTION:STALL AND RV OFFICE HOURS\nFRIDAY: 3 PM – 10 PMSATURDAY: 8 AM – 8 PMSUNDAY: CLOSED \n			\n				\n				\n				\n				\n				Jr. High Rodeo begins at 8:30am\nJr High Order Of EventsBarrelsRibbonsBreakawayCalf RopingChute DoggingPolesTeam RopingGoatsJr BullsBareback on steersSaddle Bronc on steers \nHigh School rodeo to follow completion of Jr. High Rodeo.\nHigh School Order of EventsBullsSaddle BroncBarebackBarrelsCalf RopingBreakawaySteer WrestlingPolesTeam RopingGoats \nFor more event information or to enter please visit Region 10 website
URL:https://circletarena.net/event/region-10-rodeo-3/
LOCATION:Circle T Arena – A\, TX
CATEGORIES:Arena Events
ATTACH;FMTTYPE=image/jpeg:https://circletarena.net/wp-content/uploads/2024/07/lg-Region-X-logo-1.jpg
ORGANIZER;CN="REGX":MAILTO:texasregion10@gmail.com
END:VEVENT
BEGIN:VEVENT
DTSTART;VALUE=DATE:20241102
DTEND;VALUE=DATE:20241104
DTSTAMP:20260421T085613
CREATED:20240718T194714Z
LAST-MODIFIED:20241030T181907Z
UID:10000042-1730505600-1730678399@circletarena.net
SUMMARY:Region 10 Rodeo
DESCRIPTION:STALL AND RV OFFICE HOURS\nFRIDAY: 10 AM – 10 PMSATURDAY: 8 AM – 6 PMSUNDAY: CLOSED \n			\n				\n				\n				\n				\n				Jr. High Rodeo begins at 8:30amHigh School rodeo to follow completion of Jr. High Rodeo.\nFor more event information please visit:  http://www.region10rodeo.com/home-1.html
URL:https://circletarena.net/event/region-10-rodeo/
LOCATION:Circle T Arena – A\, TX
CATEGORIES:Arena Events
ATTACH;FMTTYPE=image/jpeg:https://circletarena.net/wp-content/uploads/2024/07/lg-Region-X-logo-1.jpg
ORGANIZER;CN="REGX":MAILTO:texasregion10@gmail.com
END:VEVENT
BEGIN:VEVENT
DTSTART;VALUE=DATE:20241005
DTEND;VALUE=DATE:20241007
DTSTAMP:20260421T085613
CREATED:20240718T191816Z
LAST-MODIFIED:20240726T220959Z
UID:10000036-1728086400-1728259199@circletarena.net
SUMMARY:Region 10 Rodeo
DESCRIPTION:STALL AND RV OFFICE HOURS\nFRIDAY: 3 PM – 10 PMSATURDAY: 8 AM – 8 PMSUNDAY: CLOSED \n			\n				\n				\n				\n				\n				Jr. High Rodeo begins at 8:30amHigh School rodeo to follow completion of Jr. High Rodeo.\nFor more event information please visit:  http://www.region10rodeo.com/home-1.html
URL:https://circletarena.net/event/regx-high-school-rodeo/
LOCATION:Circle T Arena – A\, TX
CATEGORIES:Arena Events
ATTACH;FMTTYPE=image/jpeg:https://circletarena.net/wp-content/uploads/2024/07/lg-Region-X-logo-1.jpg
ORGANIZER;CN="REGX":MAILTO:texasregion10@gmail.com
END:VEVENT
BEGIN:VEVENT
DTSTART;VALUE=DATE:20240914
DTEND;VALUE=DATE:20240916
DTSTAMP:20260421T085613
CREATED:20240723T035721Z
LAST-MODIFIED:20240726T220532Z
UID:10000052-1726272000-1726444799@circletarena.net
SUMMARY:Region 10 Rodeo
DESCRIPTION:STALL AND RV OFFICE HOURS\nFRIDAY: 4 PM – 10 PMSATURDAY: 8 AM – 8 PMSUNDAY: CLOSED \n			\n				\n				\n				\n				\n				Jr. High Rodeo begins at 8:30amHigh School rodeo to follow completion of Jr. High Rodeo.\nFor more event information please visit:  http://www.region10rodeo.com/home-1.html
URL:https://circletarena.net/event/region-10-rodeo-2/
LOCATION:Circle T Arena – A\, TX
CATEGORIES:Arena Events
ATTACH;FMTTYPE=image/jpeg:https://circletarena.net/wp-content/uploads/2024/07/lg-Region-X-logo-1.jpg
ORGANIZER;CN="REGX":MAILTO:texasregion10@gmail.com
END:VEVENT
END:VCALENDAR