BEGIN:VCALENDAR
VERSION:2.0
PRODID:-//Circle T Arena | Hamilton, Texas - ECPv6.15.16//NONSGML v1.0//EN
CALSCALE:GREGORIAN
METHOD:PUBLISH
X-WR-CALNAME:Circle T Arena | Hamilton, Texas
X-ORIGINAL-URL:https://circletarena.net
X-WR-CALDESC:Events for Circle T Arena | Hamilton, Texas
REFRESH-INTERVAL;VALUE=DURATION:PT1H
X-Robots-Tag:noindex
X-PUBLISHED-TTL:PT1H
BEGIN:VTIMEZONE
TZID:America/Chicago
BEGIN:DAYLIGHT
TZOFFSETFROM:-0600
TZOFFSETTO:-0500
TZNAME:CDT
DTSTART:20240310T080000
END:DAYLIGHT
BEGIN:STANDARD
TZOFFSETFROM:-0500
TZOFFSETTO:-0600
TZNAME:CST
DTSTART:20241103T070000
END:STANDARD
BEGIN:DAYLIGHT
TZOFFSETFROM:-0600
TZOFFSETTO:-0500
TZNAME:CDT
DTSTART:20250309T080000
END:DAYLIGHT
BEGIN:STANDARD
TZOFFSETFROM:-0500
TZOFFSETTO:-0600
TZNAME:CST
DTSTART:20251102T070000
END:STANDARD
BEGIN:DAYLIGHT
TZOFFSETFROM:-0600
TZOFFSETTO:-0500
TZNAME:CDT
DTSTART:20260308T080000
END:DAYLIGHT
BEGIN:STANDARD
TZOFFSETFROM:-0500
TZOFFSETTO:-0600
TZNAME:CST
DTSTART:20261101T070000
END:STANDARD
END:VTIMEZONE
BEGIN:VEVENT
DTSTART;TZID=America/Chicago:20250211T180000
DTEND;TZID=America/Chicago:20250211T210000
DTSTAMP:20260424T112224
CREATED:20241231T191826Z
LAST-MODIFIED:20250106T194136Z
UID:10000105-1739296800-1739307600@circletarena.net
SUMMARY:Vine and Dine
DESCRIPTION:PURCHASE TICKETS\n			\n				\n				\n				\n				\n				\nJoin us for an extraordinary evening as we bring together the finest culinary talents in Hamilton to support our beloved Hamilton Public Library. This exclusive event will feature a delectable five course dinner and an expertly curated wine and craft beer pairing\, hosted by three of Hamilton’s finest:\n \n– Justin Zimmerman\, Brewmaster at Old 290 Brewery\, providing his award winning craft beers for the cocktail hour.\n\n\n\nJustin Zimmerman\, from Hamilton Texas\, started out at Old 290 Brewery in 2009.  He has produced many beers that really have that handcrafted touch. Whether it is with a refreshing Kolsch that has that classic German flavor and aroma\, or an IPA that smells like you are in a citrus warehouse. He loves the fact that he is surrounded by a community of people who create amazing products. Products such as fine bourbons and whiskeys to award winning Tempranillos. It is here in the hill country where the barrels are as abundant as the peaches that grow in the orchards around him. Barrel aged beers offer something that many people appreciate these days\, which is amazing when it becomes time to make an imperial bourbon oatmeal stout\, or an IPA with a French oak essence. \n\nFind more information on the Old 290 Brewery website\n\n \n– Executive Chef Jonathan Salley from Crossfire Steakhouse\, crafting a mouthwatering menu designed to delight your palate.  \n  \nFind more information on the Crossfire Steakhouse website \n\n– Derek Diaz\, Food and Beverage Manager at Carter Creek Winery\, pairing Texas wines with each course for the perfect complement.   \n  \nFind more information on the Carter Creek Winery website \n\n \n\nIndulge in an evening of elegance while supporting our Hamilton Public Library! \n$100 per ticket.  Includes cocktail hour with a complementary draft beer from Old 290 Brewing\, five course dinner from Crossfire Steakhouse paired with five wine tastings from Carter Creek Winery. \n\n			\n				PURCHASE TICKETS
URL:https://circletarena.net/event/vine-and-dine/
LOCATION:Crossfire Steakhouse & Cantina\, 4007 Texas 36\, Hamilton\, TX\, 76531\, United States
CATEGORIES:Live Music
ATTACH;FMTTYPE=image/png:https://circletarena.net/wp-content/uploads/2024/12/Vine-Dine-Featured-Image.png
END:VEVENT
END:VCALENDAR